BEGIN:VCALENDAR
VERSION:2.0
PRODID:-//盛心塾ニューヨーク公式ウェブサイト - ECPv6.15.13.1//NONSGML v1.0//EN
CALSCALE:GREGORIAN
METHOD:PUBLISH
X-ORIGINAL-URL:https://seishinjukuny.org
X-WR-CALDESC:Events for 盛心塾ニューヨーク公式ウェブサイト
REFRESH-INTERVAL;VALUE=DURATION:PT1H
X-Robots-Tag:noindex
X-PUBLISHED-TTL:PT1H
BEGIN:VTIMEZONE
TZID:America/Caracas
BEGIN:STANDARD
TZOFFSETFROM:-0400
TZOFFSETTO:-0400
TZNAME:-04
DTSTART:20220101T000000
END:STANDARD
END:VTIMEZONE
BEGIN:VEVENT
DTSTART;TZID=America/Caracas:20230512T060000
DTEND;TZID=America/Caracas:20230512T083000
DTSTAMP:20260425T185425
CREATED:20230206T153057Z
LAST-MODIFIED:20230206T153057Z
UID:599-1683871200-1683880200@seishinjukuny.org
SUMMARY:盛心塾NY 5月 機関誌早朝輪読会
DESCRIPTION:
URL:https://seishinjukuny.org/event/%e7%9b%9b%e5%bf%83%e5%a1%beny-5%e6%9c%88-%e6%a9%9f%e9%96%a2%e8%aa%8c%e6%97%a9%e6%9c%9d%e8%bc%aa%e8%aa%ad%e4%bc%9a/
LOCATION:ZOOMによるリモート勉強会
END:VEVENT
END:VCALENDAR