BEGIN:VCALENDAR
VERSION:2.0
PRODID:-//盛心塾ニューヨーク公式ウェブサイト - ECPv6.15.13.1//NONSGML v1.0//EN
CALSCALE:GREGORIAN
METHOD:PUBLISH
X-ORIGINAL-URL:https://seishinjukuny.org
X-WR-CALDESC:Events for 盛心塾ニューヨーク公式ウェブサイト
REFRESH-INTERVAL;VALUE=DURATION:PT1H
X-Robots-Tag:noindex
X-PUBLISHED-TTL:PT1H
BEGIN:VTIMEZONE
TZID:UTC
BEGIN:STANDARD
TZOFFSETFROM:+0000
TZOFFSETTO:+0000
TZNAME:UTC
DTSTART:20230101T000000
END:STANDARD
END:VTIMEZONE
BEGIN:VEVENT
DTSTART;TZID=UTC:20241125T190000
DTEND;TZID=UTC:20241125T203000
DTSTAMP:20260424T154018
CREATED:20230206T151602Z
LAST-MODIFIED:20240619T000322Z
UID:563-1732561200-1732566600@seishinjukuny.org
SUMMARY:盛心塾NY 11月 自主勉強会/切磋琢磨会
DESCRIPTION:
URL:https://seishinjukuny.org/event/%e7%9b%9b%e5%bf%83%e5%a1%beny-11%e6%9c%88-%e8%87%aa%e4%b8%bb%e5%8b%89%e5%bc%b7%e4%bc%9a-%e5%88%87%e7%a3%8b%e7%90%a2%e7%a3%a8%e4%bc%9a/
LOCATION:ZOOMによるリモート勉強会
END:VEVENT
END:VCALENDAR