BEGIN:VCALENDAR
VERSION:2.0
PRODID:-//盛心塾ニューヨーク公式ウェブサイト - ECPv6.15.13.1//NONSGML v1.0//EN
CALSCALE:GREGORIAN
METHOD:PUBLISH
X-ORIGINAL-URL:https://seishinjukuny.org
X-WR-CALDESC:Events for 盛心塾ニューヨーク公式ウェブサイト
REFRESH-INTERVAL;VALUE=DURATION:PT1H
X-Robots-Tag:noindex
X-PUBLISHED-TTL:PT1H
BEGIN:VTIMEZONE
TZID:UTC
BEGIN:STANDARD
TZOFFSETFROM:+0000
TZOFFSETTO:+0000
TZNAME:UTC
DTSTART:20230101T000000
END:STANDARD
END:VTIMEZONE
BEGIN:VEVENT
DTSTART;TZID=UTC:20241219T190000
DTEND;TZID=UTC:20241219T213000
DTSTAMP:20260424T154018
CREATED:20230206T143806Z
LAST-MODIFIED:20240618T232920Z
UID:520-1734634800-1734643800@seishinjukuny.org
SUMMARY:盛心塾NY 12月 月例勉強会 (懇親会＋望年会）ハイブリッド予定
DESCRIPTION:
URL:https://seishinjukuny.org/event/%e7%9b%9b%e5%bf%83%e5%a1%beny-12%e6%9c%88-%e6%9c%88%e4%be%8b%e5%8b%89%e5%bc%b7%e4%bc%9a-%e6%87%87%e8%a6%aa%e4%bc%9a%ef%bc%8b%e6%9c%9b%e5%bf%b5%e4%bc%9a%ef%bc%89/
LOCATION:Karaoke Champさんオフィス
END:VEVENT
END:VCALENDAR