BEGIN:VCALENDAR
VERSION:2.0
PRODID:-//盛心塾ニューヨーク公式ウェブサイト - ECPv6.15.13.1//NONSGML v1.0//EN
CALSCALE:GREGORIAN
METHOD:PUBLISH
X-WR-CALNAME:盛心塾ニューヨーク公式ウェブサイト
X-ORIGINAL-URL:https://seishinjukuny.org
X-WR-CALDESC:Events for 盛心塾ニューヨーク公式ウェブサイト
REFRESH-INTERVAL;VALUE=DURATION:PT1H
X-Robots-Tag:noindex
X-PUBLISHED-TTL:PT1H
BEGIN:VTIMEZONE
TZID:UTC
BEGIN:STANDARD
TZOFFSETFROM:+0000
TZOFFSETTO:+0000
TZNAME:UTC
DTSTART:20240101T000000
END:STANDARD
END:VTIMEZONE
BEGIN:VEVENT
DTSTART;TZID=UTC:20250212T080000
DTEND;TZID=UTC:20250212T170000
DTSTAMP:20260424T120102
CREATED:20250212T190107Z
LAST-MODIFIED:20250212T190107Z
UID:766-1739347200-1739379600@seishinjukuny.org
SUMMARY:盛心塾NY 9月　月例勉強会
DESCRIPTION:
URL:https://seishinjukuny.org/event/%e7%9b%9b%e5%bf%83%e5%a1%beny-9%e6%9c%88%e3%80%80%e6%9c%88%e4%be%8b%e5%8b%89%e5%bc%b7%e4%bc%9a/
END:VEVENT
END:VCALENDAR