BEGIN:VCALENDAR
VERSION:2.0
PRODID:-//盛心塾ニューヨーク公式ウェブサイト - ECPv6.15.13.1//NONSGML v1.0//EN
CALSCALE:GREGORIAN
METHOD:PUBLISH
X-WR-CALNAME:盛心塾ニューヨーク公式ウェブサイト
X-ORIGINAL-URL:https://seishinjukuny.org
X-WR-CALDESC:Events for 盛心塾ニューヨーク公式ウェブサイト
REFRESH-INTERVAL;VALUE=DURATION:PT1H
X-Robots-Tag:noindex
X-PUBLISHED-TTL:PT1H
BEGIN:VTIMEZONE
TZID:UTC
BEGIN:STANDARD
TZOFFSETFROM:+0000
TZOFFSETTO:+0000
TZNAME:UTC
DTSTART:20220101T000000
END:STANDARD
END:VTIMEZONE
BEGIN:VTIMEZONE
TZID:America/Halifax
BEGIN:DAYLIGHT
TZOFFSETFROM:-0400
TZOFFSETTO:-0300
TZNAME:ADT
DTSTART:20220313T060000
END:DAYLIGHT
BEGIN:STANDARD
TZOFFSETFROM:-0300
TZOFFSETTO:-0400
TZNAME:AST
DTSTART:20221106T050000
END:STANDARD
BEGIN:DAYLIGHT
TZOFFSETFROM:-0400
TZOFFSETTO:-0300
TZNAME:ADT
DTSTART:20230312T060000
END:DAYLIGHT
BEGIN:STANDARD
TZOFFSETFROM:-0300
TZOFFSETTO:-0400
TZNAME:AST
DTSTART:20231105T050000
END:STANDARD
BEGIN:DAYLIGHT
TZOFFSETFROM:-0400
TZOFFSETTO:-0300
TZNAME:ADT
DTSTART:20240310T060000
END:DAYLIGHT
BEGIN:STANDARD
TZOFFSETFROM:-0300
TZOFFSETTO:-0400
TZNAME:AST
DTSTART:20241103T050000
END:STANDARD
BEGIN:DAYLIGHT
TZOFFSETFROM:-0400
TZOFFSETTO:-0300
TZNAME:ADT
DTSTART:20250309T060000
END:DAYLIGHT
BEGIN:STANDARD
TZOFFSETFROM:-0300
TZOFFSETTO:-0400
TZNAME:AST
DTSTART:20251102T050000
END:STANDARD
END:VTIMEZONE
BEGIN:VTIMEZONE
TZID:America/Caracas
BEGIN:STANDARD
TZOFFSETFROM:-0400
TZOFFSETTO:-0400
TZNAME:-04
DTSTART:20220101T000000
END:STANDARD
END:VTIMEZONE
BEGIN:VTIMEZONE
TZID:America/New_York
BEGIN:DAYLIGHT
TZOFFSETFROM:-0500
TZOFFSETTO:-0400
TZNAME:EDT
DTSTART:20220313T070000
END:DAYLIGHT
BEGIN:STANDARD
TZOFFSETFROM:-0400
TZOFFSETTO:-0500
TZNAME:EST
DTSTART:20221106T060000
END:STANDARD
BEGIN:DAYLIGHT
TZOFFSETFROM:-0500
TZOFFSETTO:-0400
TZNAME:EDT
DTSTART:20230312T070000
END:DAYLIGHT
BEGIN:STANDARD
TZOFFSETFROM:-0400
TZOFFSETTO:-0500
TZNAME:EST
DTSTART:20231105T060000
END:STANDARD
BEGIN:DAYLIGHT
TZOFFSETFROM:-0500
TZOFFSETTO:-0400
TZNAME:EDT
DTSTART:20240310T070000
END:DAYLIGHT
BEGIN:STANDARD
TZOFFSETFROM:-0400
TZOFFSETTO:-0500
TZNAME:EST
DTSTART:20241103T060000
END:STANDARD
END:VTIMEZONE
BEGIN:VEVENT
DTSTART;TZID=UTC:20240821T070000
DTEND;TZID=UTC:20240821T080000
DTSTAMP:20260424T140654
CREATED:20230216T141038Z
LAST-MODIFIED:20240618T235646Z
UID:630-1724223600-1724227200@seishinjukuny.org
SUMMARY:盛心塾NY 8月　英語塾
DESCRIPTION:
URL:https://seishinjukuny.org/event/%e7%9b%9b%e5%bf%83%e5%a1%beny-8%e6%9c%88%e3%80%80%e8%8b%b1%e8%aa%9e%e5%a1%be/
LOCATION:ZOOMによるリモート勉強会
END:VEVENT
BEGIN:VEVENT
DTSTART;TZID=UTC:20240815T190000
DTEND;TZID=UTC:20240815T213000
DTSTAMP:20260424T140654
CREATED:20230206T143439Z
LAST-MODIFIED:20240618T232056Z
UID:509-1723748400-1723757400@seishinjukuny.org
SUMMARY:盛心塾NY 8月 月例勉強会
DESCRIPTION:
URL:https://seishinjukuny.org/event/%e7%9b%9b%e5%bf%83%e5%a1%beny-8%e6%9c%88-%e6%9c%88%e4%be%8b%e5%8b%89%e5%bc%b7%e4%bc%9a/
LOCATION:ZOOMによるリモート勉強会
END:VEVENT
BEGIN:VEVENT
DTSTART;TZID=UTC:20240813T190000
DTEND;TZID=UTC:20240813T200000
DTSTAMP:20260424T140654
CREATED:20230206T152201Z
LAST-MODIFIED:20240618T235751Z
UID:583-1723575600-1723579200@seishinjukuny.org
SUMMARY:盛心塾NY 8月 世話人会
DESCRIPTION:
URL:https://seishinjukuny.org/event/%e7%9b%9b%e5%bf%83%e5%a1%beny-8%e6%9c%88-%e4%b8%96%e8%a9%b1%e4%ba%ba%e4%bc%9a/
LOCATION:ZOOMによるリモート勉強会
END:VEVENT
BEGIN:VEVENT
DTSTART;TZID=America/Halifax:20240809T060000
DTEND;TZID=America/Halifax:20240809T083000
DTSTAMP:20260424T140654
CREATED:20230206T153250Z
LAST-MODIFIED:20240618T235709Z
UID:605-1723183200-1723192200@seishinjukuny.org
SUMMARY:盛心塾NY 8月 機関誌早朝輪読会
DESCRIPTION:
URL:https://seishinjukuny.org/event/%e7%9b%9b%e5%bf%83%e5%a1%beny-8%e6%9c%88-%e6%a9%9f%e9%96%a2%e8%aa%8c%e6%97%a9%e6%9c%9d%e8%bc%aa%e8%aa%ad%e4%bc%9a/
LOCATION:ZOOMによるリモート勉強会
END:VEVENT
BEGIN:VEVENT
DTSTART;TZID=UTC:20240722T190000
DTEND;TZID=UTC:20240722T203000
DTSTAMP:20260424T140654
CREATED:20230206T145826Z
LAST-MODIFIED:20240619T000129Z
UID:546-1721674800-1721680200@seishinjukuny.org
SUMMARY:盛心塾NY 7月 自主勉強会/切磋琢磨会
DESCRIPTION:
URL:https://seishinjukuny.org/event/%e7%9b%9b%e5%bf%83%e5%a1%beny-7%e6%9c%88-%e8%87%aa%e4%b8%bb%e5%8b%89%e5%bc%b7%e4%bc%9a-%e5%88%87%e7%a3%8b%e7%90%a2%e7%a3%a8%e4%bc%9a/
LOCATION:ZOOMによるリモート勉強会
END:VEVENT
BEGIN:VEVENT
DTSTART;TZID=UTC:20240718T190000
DTEND;TZID=UTC:20240718T213000
DTSTAMP:20260424T140654
CREATED:20230206T143405Z
LAST-MODIFIED:20240618T232952Z
UID:507-1721329200-1721338200@seishinjukuny.org
SUMMARY:盛心塾NY 7月 月例勉強会(ハイブリット)
DESCRIPTION:
URL:https://seishinjukuny.org/event/%e7%9b%9b%e5%bf%83%e5%a1%beny-7%e6%9c%88-%e6%9c%88%e4%be%8b%e5%8b%89%e5%bc%b7%e4%bc%9a/
LOCATION:Karaoke Champさんオフィス
END:VEVENT
BEGIN:VEVENT
DTSTART;TZID=UTC:20240717T070000
DTEND;TZID=UTC:20240717T080000
DTSTAMP:20260424T140654
CREATED:20230216T140957Z
LAST-MODIFIED:20240618T235812Z
UID:628-1721199600-1721203200@seishinjukuny.org
SUMMARY:盛心塾NY 7月　英語塾
DESCRIPTION:
URL:https://seishinjukuny.org/event/%e7%9b%9b%e5%bf%83%e5%a1%beny-7%e6%9c%88%e3%80%80%e8%8b%b1%e8%aa%9e%e5%a1%be/
LOCATION:ZOOMによるリモート勉強会
END:VEVENT
BEGIN:VEVENT
DTSTART;TZID=America/Halifax:20240712T060000
DTEND;TZID=America/Halifax:20240712T083000
DTSTAMP:20260424T140654
CREATED:20230206T153219Z
LAST-MODIFIED:20240618T235832Z
UID:603-1720764000-1720773000@seishinjukuny.org
SUMMARY:盛心塾NY 7月 機関誌早朝輪読会
DESCRIPTION:
URL:https://seishinjukuny.org/event/%e7%9b%9b%e5%bf%83%e5%a1%beny-7%e6%9c%88-%e6%a9%9f%e9%96%a2%e8%aa%8c%e6%97%a9%e6%9c%9d%e8%bc%aa%e8%aa%ad%e4%bc%9a/
LOCATION:ZOOMによるリモート勉強会
END:VEVENT
BEGIN:VEVENT
DTSTART;TZID=UTC:20240709T190000
DTEND;TZID=UTC:20240709T200000
DTSTAMP:20260424T140654
CREATED:20230206T152133Z
LAST-MODIFIED:20240618T235858Z
UID:581-1720551600-1720555200@seishinjukuny.org
SUMMARY:盛心塾NY 7月 世話人会
DESCRIPTION:
URL:https://seishinjukuny.org/event/%e7%9b%9b%e5%bf%83%e5%a1%beny-7%e6%9c%88-%e4%b8%96%e8%a9%b1%e4%ba%ba%e4%bc%9a/
LOCATION:ZOOMによるリモート勉強会
END:VEVENT
BEGIN:VEVENT
DTSTART;TZID=UTC:20240624T190000
DTEND;TZID=UTC:20240624T203000
DTSTAMP:20260424T140654
CREATED:20230206T145712Z
LAST-MODIFIED:20240619T000024Z
UID:542-1719255600-1719261000@seishinjukuny.org
SUMMARY:盛心塾NY 6月 自主勉強会/切磋琢磨会
DESCRIPTION:
URL:https://seishinjukuny.org/event/%e7%9b%9b%e5%bf%83%e5%a1%beny-6%e6%9c%88-%e8%87%aa%e4%b8%bb%e5%8b%89%e5%bc%b7%e4%bc%9a-%e5%88%87%e7%a3%8b%e7%90%a2%e7%a3%a8%e4%bc%9a/
LOCATION:ZOOMによるリモート勉強会
END:VEVENT
BEGIN:VEVENT
DTSTART;TZID=UTC:20240620T190000
DTEND;TZID=UTC:20240620T213000
DTSTAMP:20260424T140654
CREATED:20240520T143313Z
LAST-MODIFIED:20240618T231942Z
UID:505-1718910000-1718919000@seishinjukuny.org
SUMMARY:盛心塾NY 6月 月例勉強会
DESCRIPTION:
URL:https://seishinjukuny.org/event/%e7%9b%9b%e5%bf%83%e5%a1%beny-6%e6%9c%88-%e6%9c%88%e4%be%8b%e5%8b%89%e5%bc%b7%e4%bc%9a-2/
LOCATION:ZOOMによるリモート勉強会
END:VEVENT
BEGIN:VEVENT
DTSTART;TZID=UTC:20240619T070000
DTEND;TZID=UTC:20240619T080000
DTSTAMP:20260424T140654
CREATED:20230216T140915Z
LAST-MODIFIED:20240618T235921Z
UID:626-1718780400-1718784000@seishinjukuny.org
SUMMARY:盛心塾NY 6月　英語塾
DESCRIPTION:
URL:https://seishinjukuny.org/event/%e7%9b%9b%e5%bf%83%e5%a1%beny-6%e6%9c%88%e3%80%80%e8%8b%b1%e8%aa%9e%e5%a1%be/
LOCATION:ZOOMによるリモート勉強会
END:VEVENT
BEGIN:VEVENT
DTSTART;TZID=UTC:20240516T190000
DTEND;TZID=UTC:20240516T213000
DTSTAMP:20260424T140654
CREATED:20230206T143239Z
LAST-MODIFIED:20240618T232137Z
UID:503-1715886000-1715895000@seishinjukuny.org
SUMMARY:盛心塾NY 5月 月例勉強会
DESCRIPTION:
URL:https://seishinjukuny.org/event/%e7%9b%9b%e5%bf%83%e5%a1%beny-5%e6%9c%88-%e6%9c%88%e4%be%8b%e5%8b%89%e5%bc%b7%e4%bc%9a/
LOCATION:ZOOMによるリモート勉強会
END:VEVENT
BEGIN:VEVENT
DTSTART;TZID=UTC:20230613T190000
DTEND;TZID=UTC:20230613T200000
DTSTAMP:20260424T140654
CREATED:20230206T152108Z
LAST-MODIFIED:20230206T152108Z
UID:579-1686682800-1686686400@seishinjukuny.org
SUMMARY:盛心塾NY 6月 世話人会
DESCRIPTION:
URL:https://seishinjukuny.org/event/%e7%9b%9b%e5%bf%83%e5%a1%beny-6%e6%9c%88-%e4%b8%96%e8%a9%b1%e4%ba%ba%e4%bc%9a/
LOCATION:ZOOMによるリモート勉強会
END:VEVENT
BEGIN:VEVENT
DTSTART;TZID=America/Halifax:20230609T060000
DTEND;TZID=America/Halifax:20230609T083000
DTSTAMP:20260424T140654
CREATED:20230206T153134Z
LAST-MODIFIED:20230206T153652Z
UID:601-1686290400-1686299400@seishinjukuny.org
SUMMARY:盛心塾NY 6月 機関誌早朝輪読会
DESCRIPTION:
URL:https://seishinjukuny.org/event/%e7%9b%9b%e5%bf%83%e5%a1%beny-6%e6%9c%88-%e6%a9%9f%e9%96%a2%e8%aa%8c%e6%97%a9%e6%9c%9d%e8%bc%aa%e8%aa%ad%e4%bc%9a/
LOCATION:ZOOMによるリモート勉強会
END:VEVENT
BEGIN:VEVENT
DTSTART;TZID=UTC:20230519T190000
DTEND;TZID=UTC:20230519T203000
DTSTAMP:20260424T140654
CREATED:20230206T145442Z
LAST-MODIFIED:20230206T145442Z
UID:538-1684522800-1684528200@seishinjukuny.org
SUMMARY:盛心塾NY 5月 自主勉強会/切磋琢磨会
DESCRIPTION:
URL:https://seishinjukuny.org/event/%e7%9b%9b%e5%bf%83%e5%a1%beny-5%e6%9c%88-%e8%87%aa%e4%b8%bb%e5%8b%89%e5%bc%b7%e4%bc%9a-%e5%88%87%e7%a3%8b%e7%90%a2%e7%a3%a8%e4%bc%9a/
LOCATION:ZOOMによるリモート勉強会
END:VEVENT
BEGIN:VEVENT
DTSTART;TZID=UTC:20230517T070000
DTEND;TZID=UTC:20230517T080000
DTSTAMP:20260424T140654
CREATED:20230216T140838Z
LAST-MODIFIED:20230216T140838Z
UID:624-1684306800-1684310400@seishinjukuny.org
SUMMARY:盛心塾NY 5月　英語塾
DESCRIPTION:
URL:https://seishinjukuny.org/event/%e7%9b%9b%e5%bf%83%e5%a1%beny-5%e6%9c%88%e3%80%80%e8%8b%b1%e8%aa%9e%e5%a1%be/
LOCATION:ZOOMによるリモート勉強会
END:VEVENT
BEGIN:VEVENT
DTSTART;TZID=America/Caracas:20230512T060000
DTEND;TZID=America/Caracas:20230512T083000
DTSTAMP:20260424T140654
CREATED:20230206T153057Z
LAST-MODIFIED:20230206T153057Z
UID:599-1683871200-1683880200@seishinjukuny.org
SUMMARY:盛心塾NY 5月 機関誌早朝輪読会
DESCRIPTION:
URL:https://seishinjukuny.org/event/%e7%9b%9b%e5%bf%83%e5%a1%beny-5%e6%9c%88-%e6%a9%9f%e9%96%a2%e8%aa%8c%e6%97%a9%e6%9c%9d%e8%bc%aa%e8%aa%ad%e4%bc%9a/
LOCATION:ZOOMによるリモート勉強会
END:VEVENT
BEGIN:VEVENT
DTSTART;TZID=UTC:20230509T190000
DTEND;TZID=UTC:20230509T200000
DTSTAMP:20260424T140654
CREATED:20230206T152042Z
LAST-MODIFIED:20230206T152042Z
UID:577-1683658800-1683662400@seishinjukuny.org
SUMMARY:盛心塾NY 5月 世話人会
DESCRIPTION:
URL:https://seishinjukuny.org/event/%e7%9b%9b%e5%bf%83%e5%a1%beny-5%e6%9c%88-%e4%b8%96%e8%a9%b1%e4%ba%ba%e4%bc%9a/
LOCATION:ZOOMによるリモート勉強会
END:VEVENT
BEGIN:VEVENT
DTSTART;TZID=UTC:20230421T190000
DTEND;TZID=UTC:20230421T203000
DTSTAMP:20260424T140654
CREATED:20230206T145336Z
LAST-MODIFIED:20230206T145336Z
UID:534-1682103600-1682109000@seishinjukuny.org
SUMMARY:盛心塾NY 4月 自主勉強会/切磋琢磨会
DESCRIPTION:
URL:https://seishinjukuny.org/event/%e7%9b%9b%e5%bf%83%e5%a1%beny-4%e6%9c%88-%e8%87%aa%e4%b8%bb%e5%8b%89%e5%bc%b7%e4%bc%9a-%e5%88%87%e7%a3%8b%e7%90%a2%e7%a3%a8%e4%bc%9a/
LOCATION:ZOOMによるリモート勉強会
END:VEVENT
BEGIN:VEVENT
DTSTART;TZID=UTC:20230420T190000
DTEND;TZID=UTC:20230420T213000
DTSTAMP:20260424T140654
CREATED:20230206T143122Z
LAST-MODIFIED:20230206T143122Z
UID:501-1682017200-1682026200@seishinjukuny.org
SUMMARY:盛心塾NY 4月 月例勉強会
DESCRIPTION:
URL:https://seishinjukuny.org/event/%e7%9b%9b%e5%bf%83%e5%a1%beny-4%e6%9c%88-%e6%9c%88%e4%be%8b%e5%8b%89%e5%bc%b7%e4%bc%9a-2/
LOCATION:ZOOMによるリモート勉強会
END:VEVENT
BEGIN:VEVENT
DTSTART;TZID=UTC:20230419T070000
DTEND;TZID=UTC:20230419T080000
DTSTAMP:20260424T140654
CREATED:20230216T140800Z
LAST-MODIFIED:20230216T140800Z
UID:622-1681887600-1681891200@seishinjukuny.org
SUMMARY:盛心塾NY 4月　英語塾
DESCRIPTION:
URL:https://seishinjukuny.org/event/%e7%9b%9b%e5%bf%83%e5%a1%beny-4%e6%9c%88%e3%80%80%e8%8b%b1%e8%aa%9e%e5%a1%be/
LOCATION:ZOOMによるリモート勉強会
END:VEVENT
BEGIN:VEVENT
DTSTART;TZID=America/Halifax:20230414T060000
DTEND;TZID=America/Halifax:20230414T083000
DTSTAMP:20260424T140654
CREATED:20230206T153024Z
LAST-MODIFIED:20230206T153724Z
UID:597-1681452000-1681461000@seishinjukuny.org
SUMMARY:盛心塾NY 4月 機関誌早朝輪読会
DESCRIPTION:
URL:https://seishinjukuny.org/event/%e7%9b%9b%e5%bf%83%e5%a1%beny-4%e6%9c%88-%e6%a9%9f%e9%96%a2%e8%aa%8c%e6%97%a9%e6%9c%9d%e8%bc%aa%e8%aa%ad%e4%bc%9a/
LOCATION:ZOOMによるリモート勉強会
END:VEVENT
BEGIN:VEVENT
DTSTART;TZID=UTC:20230411T190000
DTEND;TZID=UTC:20230411T200000
DTSTAMP:20260424T140654
CREATED:20230206T152017Z
LAST-MODIFIED:20230206T152017Z
UID:575-1681239600-1681243200@seishinjukuny.org
SUMMARY:盛心塾NY 4月 世話人会
DESCRIPTION:
URL:https://seishinjukuny.org/event/%e7%9b%9b%e5%bf%83%e5%a1%beny-4%e6%9c%88-%e4%b8%96%e8%a9%b1%e4%ba%ba%e4%bc%9a/
LOCATION:ZOOMによるリモート勉強会
END:VEVENT
BEGIN:VEVENT
DTSTART;TZID=UTC:20230317T190000
DTEND;TZID=UTC:20230317T203000
DTSTAMP:20260424T140654
CREATED:20230206T145213Z
LAST-MODIFIED:20230206T145213Z
UID:529-1679079600-1679085000@seishinjukuny.org
SUMMARY:盛心塾NY 3月 自主勉強会/切磋琢磨会
DESCRIPTION:
URL:https://seishinjukuny.org/event/%e7%9b%9b%e5%bf%83%e5%a1%beny-3%e6%9c%88-%e8%87%aa%e4%b8%bb%e5%8b%89%e5%bc%b7%e4%bc%9a-%e5%88%87%e7%a3%8b%e7%90%a2%e7%a3%a8%e4%bc%9a/
LOCATION:ZOOMによるリモート勉強会
END:VEVENT
BEGIN:VEVENT
DTSTART;TZID=UTC:20230316T190000
DTEND;TZID=UTC:20230316T213000
DTSTAMP:20260424T140654
CREATED:20230206T143022Z
LAST-MODIFIED:20230206T143022Z
UID:499-1678993200-1679002200@seishinjukuny.org
SUMMARY:盛心塾NY 3月 月例勉強会
DESCRIPTION:
URL:https://seishinjukuny.org/event/%e7%9b%9b%e5%bf%83%e5%a1%beny-3%e6%9c%88-%e6%9c%88%e4%be%8b%e5%8b%89%e5%bc%b7%e4%bc%9a/
LOCATION:ZOOMによるリモート勉強会
END:VEVENT
BEGIN:VEVENT
DTSTART;TZID=UTC:20230315T070000
DTEND;TZID=UTC:20230315T080000
DTSTAMP:20260424T140654
CREATED:20230216T140644Z
LAST-MODIFIED:20230216T140644Z
UID:620-1678863600-1678867200@seishinjukuny.org
SUMMARY:盛心塾NY 3月　英語塾
DESCRIPTION:
URL:https://seishinjukuny.org/event/%e7%9b%9b%e5%bf%83%e5%a1%beny-3%e6%9c%88%e3%80%80%e8%8b%b1%e8%aa%9e%e5%a1%be/
LOCATION:ZOOMによるリモート勉強会
END:VEVENT
BEGIN:VEVENT
DTSTART;TZID=UTC:20230314T190000
DTEND;TZID=UTC:20230314T200000
DTSTAMP:20260424T140654
CREATED:20230206T151957Z
LAST-MODIFIED:20230206T151957Z
UID:573-1678820400-1678824000@seishinjukuny.org
SUMMARY:盛心塾NY 3月 世話人会
DESCRIPTION:
URL:https://seishinjukuny.org/event/%e7%9b%9b%e5%bf%83%e5%a1%beny-3%e6%9c%88-%e4%b8%96%e8%a9%b1%e4%ba%ba%e4%bc%9a/
LOCATION:ZOOMによるリモート勉強会
END:VEVENT
BEGIN:VEVENT
DTSTART;TZID=America/New_York:20230310T060000
DTEND;TZID=America/New_York:20230310T083000
DTSTAMP:20260424T140654
CREATED:20230206T152926Z
LAST-MODIFIED:20230206T153744Z
UID:595-1678428000-1678437000@seishinjukuny.org
SUMMARY:盛心塾NY 3月 機関誌早朝輪読会
DESCRIPTION:
URL:https://seishinjukuny.org/event/%e7%9b%9b%e5%bf%83%e5%a1%beny-3%e6%9c%88-%e6%a9%9f%e9%96%a2%e8%aa%8c%e6%97%a9%e6%9c%9d%e8%bc%aa%e8%aa%ad%e4%bc%9a/
LOCATION:ZOOMによるリモート勉強会
END:VEVENT
BEGIN:VEVENT
DTSTART;TZID=UTC:20230217T190000
DTEND;TZID=UTC:20230217T203000
DTSTAMP:20260424T140654
CREATED:20230206T144207Z
LAST-MODIFIED:20230206T144946Z
UID:523-1676660400-1676665800@seishinjukuny.org
SUMMARY:盛心塾NY 2月 自主勉強会/切磋琢磨会
DESCRIPTION:
URL:https://seishinjukuny.org/event/%e7%9b%9b%e5%bf%83%e5%a1%beny-2%e6%9c%88-%e8%87%aa%e4%b8%bb%e5%8b%89%e5%bc%b7%e4%bc%9a/
LOCATION:ZOOMによるリモート勉強会
END:VEVENT
END:VCALENDAR