BEGIN:VCALENDAR
VERSION:2.0
PRODID:-//盛心塾ニューヨーク公式ウェブサイト - ECPv6.15.13.1//NONSGML v1.0//EN
CALSCALE:GREGORIAN
METHOD:PUBLISH
X-WR-CALNAME:盛心塾ニューヨーク公式ウェブサイト
X-ORIGINAL-URL:https://seishinjukuny.org
X-WR-CALDESC:Events for 盛心塾ニューヨーク公式ウェブサイト
REFRESH-INTERVAL;VALUE=DURATION:PT1H
X-Robots-Tag:noindex
X-PUBLISHED-TTL:PT1H
BEGIN:VTIMEZONE
TZID:UTC
BEGIN:STANDARD
TZOFFSETFROM:+0000
TZOFFSETTO:+0000
TZNAME:UTC
DTSTART:20170101T000000
END:STANDARD
END:VTIMEZONE
BEGIN:VEVENT
DTSTART;TZID=UTC:20220421T190000
DTEND;TZID=UTC:20220421T210000
DTSTAMP:20260425T124435
CREATED:20220419T233620Z
LAST-MODIFIED:20220419T233620Z
UID:434-1650567600-1650574800@seishinjukuny.org
SUMMARY:盛心塾NY 4月 月例勉強会
DESCRIPTION:次回の盛心塾NY月例勉強会は4/21(木)を予定しております。\nZOOMを使ったリモートでの開催となります。\n今月の勉強会は、板越塾生と内海塾生の経営体験発表です。司会は石山塾生と君島塾生となっております。
URL:https://seishinjukuny.org/event/%e7%9b%9b%e5%bf%83%e5%a1%beny-4%e6%9c%88-%e6%9c%88%e4%be%8b%e5%8b%89%e5%bc%b7%e4%bc%9a/
LOCATION:ZOOMによるリモート勉強会
CATEGORIES:イベント
END:VEVENT
BEGIN:VEVENT
DTSTART;TZID=UTC:20200917T190000
DTEND;TZID=UTC:20200917T210000
DTSTAMP:20260425T124435
CREATED:20200622T115044Z
LAST-MODIFIED:20200622T115112Z
UID:355-1600369200-1600376400@seishinjukuny.org
SUMMARY:盛心塾NY 9月月例勉強会
DESCRIPTION:
URL:https://seishinjukuny.org/event/%e7%9b%9b%e5%bf%83%e5%a1%beny-9%e6%9c%88%e6%9c%88%e4%be%8b%e5%8b%89%e5%bc%b7%e4%bc%9a/
CATEGORIES:イベント
END:VEVENT
BEGIN:VEVENT
DTSTART;TZID=UTC:20200820T190000
DTEND;TZID=UTC:20200820T210000
DTSTAMP:20260425T124435
CREATED:20200622T114959Z
LAST-MODIFIED:20200622T114959Z
UID:353-1597950000-1597957200@seishinjukuny.org
SUMMARY:盛心塾NY 8月月例勉強会
DESCRIPTION:開催方法は未定
URL:https://seishinjukuny.org/event/%e7%9b%9b%e5%bf%83%e5%a1%beny-8%e6%9c%88%e6%9c%88%e4%be%8b%e5%8b%89%e5%bc%b7%e4%bc%9a/
CATEGORIES:イベント
END:VEVENT
BEGIN:VEVENT
DTSTART;TZID=UTC:20200716T190000
DTEND;TZID=UTC:20200716T210000
DTSTAMP:20260425T124435
CREATED:20200622T114836Z
LAST-MODIFIED:20200622T114836Z
UID:351-1594926000-1594933200@seishinjukuny.org
SUMMARY:盛心塾NY 7月月例勉強会
DESCRIPTION:Zoomにて開催予定
URL:https://seishinjukuny.org/event/%e7%9b%9b%e5%bf%83%e5%a1%beny-7%e6%9c%88%e6%9c%88%e4%be%8b%e5%8b%89%e5%bc%b7%e4%bc%9a/
LOCATION:ZOOMによるリモート勉強会
CATEGORIES:イベント
END:VEVENT
BEGIN:VEVENT
DTSTART;TZID=UTC:20200618T190000
DTEND;TZID=UTC:20200618T210000
DTSTAMP:20260425T124435
CREATED:20200522T131434Z
LAST-MODIFIED:20200522T131434Z
UID:342-1592506800-1592514000@seishinjukuny.org
SUMMARY:盛心塾NY 6月 月例勉強会
DESCRIPTION:
URL:https://seishinjukuny.org/event/%e7%9b%9b%e5%bf%83%e5%a1%beny-6%e6%9c%88-%e6%9c%88%e4%be%8b%e5%8b%89%e5%bc%b7%e4%bc%9a/
LOCATION:ZOOMによるリモート勉強会
CATEGORIES:イベント
END:VEVENT
BEGIN:VEVENT
DTSTART;TZID=UTC:20191219T190000
DTEND;TZID=UTC:20191219T210000
DTSTAMP:20260425T124435
CREATED:20191118T140004Z
LAST-MODIFIED:20191118T140004Z
UID:301-1576782000-1576789200@seishinjukuny.org
SUMMARY:盛和塾NY総会、12月月例勉強会、望年会
DESCRIPTION:
URL:https://seishinjukuny.org/event/%e7%9b%9b%e5%92%8c%e5%a1%beny%e7%b7%8f%e4%bc%9a%e3%80%8112%e6%9c%88%e6%9c%88%e4%be%8b%e5%8b%89%e5%bc%b7%e4%bc%9a%e3%80%81%e6%9c%9b%e5%b9%b4%e4%bc%9a/
LOCATION:日系人会館(JAA)\, 49 West 45th Street\, New York\, NY\, 10036\, United States
END:VEVENT
BEGIN:VEVENT
DTSTART;TZID=UTC:20191121T190000
DTEND;TZID=UTC:20191121T190000
DTSTAMP:20260425T124435
CREATED:20191118T135858Z
LAST-MODIFIED:20191118T135858Z
UID:299-1574362800-1574362800@seishinjukuny.org
SUMMARY:11月月例勉強会
DESCRIPTION:
URL:https://seishinjukuny.org/event/11%e6%9c%88%e6%9c%88%e4%be%8b%e5%8b%89%e5%bc%b7%e4%bc%9a/
LOCATION:日系人会館(JAA)\, 49 West 45th Street\, New York\, NY\, 10036\, United States
CATEGORIES:イベント
END:VEVENT
BEGIN:VEVENT
DTSTART;TZID=UTC:20190912T184500
DTEND;TZID=UTC:20190912T210000
DTSTAMP:20260425T124435
CREATED:20190822T170746Z
LAST-MODIFIED:20190822T170746Z
UID:291-1568313900-1568322000@seishinjukuny.org
SUMMARY:9/12 月例勉強会
DESCRIPTION:
URL:https://seishinjukuny.org/event/9-12-%e6%9c%88%e4%be%8b%e5%8b%89%e5%bc%b7%e4%bc%9a/
LOCATION:日系人会館(JAA)\, 49 West 45th Street\, New York\, NY\, 10036\, United States
END:VEVENT
BEGIN:VEVENT
DTSTART;TZID=UTC:20190309T090000
DTEND;TZID=UTC:20190310T170000
DTSTAMP:20260425T124435
CREATED:20181018T190104Z
LAST-MODIFIED:20181018T190104Z
UID:262-1552122000-1552237200@seishinjukuny.org
SUMMARY:北米交流勉強会及びブロック選考会
DESCRIPTION:
URL:https://seishinjukuny.org/event/%e5%8c%97%e7%b1%b3%e4%ba%a4%e6%b5%81%e5%8b%89%e5%bc%b7%e4%bc%9a%e5%8f%8a%e3%81%b3%e3%83%96%e3%83%ad%e3%83%83%e3%82%af%e9%81%b8%e8%80%83%e4%bc%9a/
ATTACH;FMTTYPE=image/jpeg:https://seishinjukuny.org/wp-content/uploads/2018/01/26220391_10204196402468187_6832451297346569452_o.jpg
END:VEVENT
BEGIN:VEVENT
DTSTART;TZID=UTC:20190130T190000
DTEND;TZID=UTC:20190130T210000
DTSTAMP:20260425T124435
CREATED:20181220T215157Z
LAST-MODIFIED:20181220T215157Z
UID:274-1548874800-1548882000@seishinjukuny.org
SUMMARY:1/30 特別勉強会　間地 尾張塾生
DESCRIPTION:詳細は未定
URL:https://seishinjukuny.org/event/1-30-%e7%89%b9%e5%88%a5%e5%8b%89%e5%bc%b7%e4%bc%9a%e3%80%80%e9%96%93%e5%9c%b0-%e5%b0%be%e5%bc%b5%e5%a1%be%e7%94%9f/
LOCATION:日系人会館(JAA)\, 49 West 45th Street\, New York\, NY\, 10036\, United States
CATEGORIES:イベント
END:VEVENT
BEGIN:VEVENT
DTSTART;TZID=UTC:20190117T190000
DTEND;TZID=UTC:20190117T210000
DTSTAMP:20260425T124435
CREATED:20181018T190006Z
LAST-MODIFIED:20181018T190006Z
UID:260-1547751600-1547758800@seishinjukuny.org
SUMMARY:2019年度 盛和塾NY 総会
DESCRIPTION:
URL:https://seishinjukuny.org/event/2019%e5%b9%b4%e5%ba%a6-%e7%9b%9b%e5%92%8c%e5%a1%beny-%e7%b7%8f%e4%bc%9a/
LOCATION:日系人会館(JAA)\, 49 West 45th Street\, New York\, NY\, 10036\, United States
CATEGORIES:イベント
ATTACH;FMTTYPE=image/jpeg:https://seishinjukuny.org/wp-content/uploads/2018/01/26220391_10204196402468187_6832451297346569452_o.jpg
END:VEVENT
BEGIN:VEVENT
DTSTART;TZID=UTC:20181220T190000
DTEND;TZID=UTC:20181220T210000
DTSTAMP:20260425T124435
CREATED:20181018T190233Z
LAST-MODIFIED:20181018T190233Z
UID:264-1545332400-1545339600@seishinjukuny.org
SUMMARY:12月 月例勉強会
DESCRIPTION:
URL:https://seishinjukuny.org/event/12%e6%9c%88-%e6%9c%88%e4%be%8b%e5%8b%89%e5%bc%b7%e4%bc%9a/
LOCATION:日系人会館(JAA)\, 49 West 45th Street\, New York\, NY\, 10036\, United States
CATEGORIES:イベント
ATTACH;FMTTYPE=image/jpeg:https://seishinjukuny.org/wp-content/uploads/2018/01/26220391_10204196402468187_6832451297346569452_o.jpg
END:VEVENT
BEGIN:VEVENT
DTSTART;TZID=UTC:20181119T190000
DTEND;TZID=UTC:20181119T210000
DTSTAMP:20260425T124435
CREATED:20181018T185826Z
LAST-MODIFIED:20181018T190309Z
UID:258-1542654000-1542661200@seishinjukuny.org
SUMMARY:11/19(月) 特別勉強会
DESCRIPTION:田所塾生による発表\nタイトル：七転び八起き味噌ラーメンを世界へ
URL:https://seishinjukuny.org/event/11-19%e6%9c%88-%e7%89%b9%e5%88%a5%e5%8b%89%e5%bc%b7%e4%bc%9a/
LOCATION:日系人会館(JAA)\, 49 West 45th Street\, New York\, NY\, 10036\, United States
CATEGORIES:イベント
END:VEVENT
BEGIN:VEVENT
DTSTART;TZID=UTC:20181030T190000
DTEND;TZID=UTC:20181030T210000
DTSTAMP:20260425T124435
CREATED:20181018T185545Z
LAST-MODIFIED:20181018T185545Z
UID:255-1540926000-1540933200@seishinjukuny.org
SUMMARY:10/30 盛和塾会計勉強会
DESCRIPTION:テーマ：【貸借対照表、損益計算書、会計の基礎】
URL:https://seishinjukuny.org/event/%e7%9b%9b%e5%92%8c%e5%a1%be%e4%bc%9a%e8%a8%88%e5%8b%89%e5%bc%b7%e4%bc%9a10-30/
LOCATION:15 39th Street\, Suite #802\, 15 39th street\, new york\, NY\, United States
CATEGORIES:イベント
ATTACH;FMTTYPE=image/jpeg:https://seishinjukuny.org/wp-content/uploads/2018/01/26220391_10204196402468187_6832451297346569452_o.jpg
END:VEVENT
BEGIN:VEVENT
DTSTART;TZID=UTC:20181024T190000
DTEND;TZID=UTC:20181024T210000
DTSTAMP:20260425T124435
CREATED:20181018T185316Z
LAST-MODIFIED:20181018T185316Z
UID:253-1540407600-1540414800@seishinjukuny.org
SUMMARY:10月24日(水)★NY自主勉強会(切磋琢磨会)
DESCRIPTION:
URL:https://seishinjukuny.org/event/10%e6%9c%8824%e6%97%a5%e6%b0%b4%e2%98%85ny%e8%87%aa%e4%b8%bb%e5%8b%89%e5%bc%b7%e4%bc%9a%e5%88%87%e7%a3%8b%e7%90%a2%e7%a3%a8%e4%bc%9a/
LOCATION:Katsu New York\, 350 5th Avenue 75th floor Room #7501\, New York\, 10001\, United States
CATEGORIES:イベント
ATTACH;FMTTYPE=image/jpeg:https://seishinjukuny.org/wp-content/uploads/2018/01/26220391_10204196402468187_6832451297346569452_o.jpg
END:VEVENT
BEGIN:VEVENT
DTSTART;TZID=UTC:20181018T190000
DTEND;TZID=UTC:20181018T210000
DTSTAMP:20260425T124435
CREATED:20181018T185141Z
LAST-MODIFIED:20181018T185141Z
UID:251-1539889200-1539896400@seishinjukuny.org
SUMMARY:10月月例勉強会
DESCRIPTION:
URL:https://seishinjukuny.org/event/10%e6%9c%88%e6%9c%88%e4%be%8b%e5%8b%89%e5%bc%b7%e4%bc%9a/
LOCATION:日系人会館(JAA)\, 49 West 45th Street\, New York\, NY\, 10036\, United States
CATEGORIES:イベント
ATTACH;FMTTYPE=image/jpeg:https://seishinjukuny.org/wp-content/uploads/2018/01/26220391_10204196402468187_6832451297346569452_o.jpg
END:VEVENT
BEGIN:VEVENT
DTSTART;TZID=UTC:20180920T190000
DTEND;TZID=UTC:20180920T210000
DTSTAMP:20260425T124435
CREATED:20180816T193620Z
LAST-MODIFIED:20180816T193620Z
UID:246-1537470000-1537477200@seishinjukuny.org
SUMMARY:9月 月例勉強会
DESCRIPTION:
URL:https://seishinjukuny.org/event/9%e6%9c%88-%e6%9c%88%e4%be%8b%e5%8b%89%e5%bc%b7%e4%bc%9a/
LOCATION:日系人会館(JAA)\, 49 West 45th Street\, New York\, NY\, 10036\, United States
END:VEVENT
BEGIN:VEVENT
DTSTART;TZID=UTC:20180816T190000
DTEND;TZID=UTC:20180816T210000
DTSTAMP:20260425T124435
CREATED:20180816T193101Z
LAST-MODIFIED:20180816T193519Z
UID:243-1534446000-1534453200@seishinjukuny.org
SUMMARY:8月 月例勉強会
DESCRIPTION:
URL:https://seishinjukuny.org/event/8%e6%9c%88%e3%80%80%e6%9c%88%e4%be%8b%e5%8b%89%e5%bc%b7%e4%bc%9a/
LOCATION:日系人会館(JAA)\, 49 West 45th Street\, New York\, NY\, 10036\, United States
END:VEVENT
BEGIN:VEVENT
DTSTART;TZID=UTC:20180629T080000
DTEND;TZID=UTC:20180629T170000
DTSTAMP:20260425T124435
CREATED:20180629T115854Z
LAST-MODIFIED:20180629T115927Z
UID:235-1530259200-1530291600@seishinjukuny.org
SUMMARY:7月 月例勉強会
DESCRIPTION:内容は確認中参加申し込みはこちらのEVENTBRITEページよりお申し込みください。 \nイベント名:  7月 月例勉強会 7/19(木)19:15〜 \n場所: 日系人会館  49 West 45th Street 11th Floor New York NY 10036 \n毎月定例の月例勉強会を開催いたします。勉強会が始まる前の18:45から19:15まで30分間の食事の時間をとっております。塾生の皆様と友好を深めていただく時間になればと思います。 \n当日の大まかなスケジュール \n18:45-19:15 食事（お弁当） \n(*去年まで食事は勉強会の後でしたが勉強会の前に食事の時間をとるようにいたしました。間に合わない場合は懇親会の時間まで冷蔵庫で保管いたします) \n19:15-21:00 月例勉強会 \n21:00-22:30 懇親会 \n  \n7月 月例勉強会 \n幹事名: 木田塾生、田仲塾生、鹿毛塾生 \n日時: 7/19/2018 Thu 19:15 ～21:00 \n司会：田中塾生 \nテーマ：経営の原点12ヶ条　その7「経営は強い意思で決まる」 \n  \n1. 「経営の原点12ヶ条」「6つの精進」の唱和 (19:15~19:25 10分) \n2. 塾長講話DVD視聴 (19:25~20:15 50分) \n経営原点12ヶ条に沿った塾長講和を視聴 \n3. 経営問答勉強会 \n経営問答集から題材を選んでグループ討議 \n(1) 司会による今回の経営問答を選んだねらいの説明 (20:15~20:20 5分) \n(2) 経営問答の質問を読んでグループ討議、塾長なら何と答えるか(20:20~20:35 15分) \n(3) 塾長回答を読み、自社の課題と対策を考えて、グループ内で発表 (20:35~20:55 20分) \n4. 次回の司会の選出 (20:55~21:00 5分) \n懇親会  (21:00~22:30) \n  \n<勉強会の各月のテーマ> \n(経営の原点12ヶ条に沿ったテーマとなります。) \n1月 事業の目的、意義を明確にする \n公明正大で大義名分のある高い目的を立てる。 \n2月 具体的な目標を立てる \n立てた目標は常に社員と共有する。 \n3月 強烈な願望を心に抱く \n潜在意識に透徹するほどの強く持続した願望を持つこと。 \n4月 誰にも負けない努力をする \n地味な仕事を一歩一歩堅実に、弛まぬ努力を続ける。 \n5月 売上を最大限に伸ばし、経費を最小限に抑える \n入るを量って、出ずるを制する。利益を追うのではない。利益は後からついてくる。 \n6月 値決めは経営 \n値決めはトップの仕事。お客様も喜び、自分も儲かるポイントは一点である。 \n7月 経営は強い意志で決まる \n経営には岩をもうがつ強い意志が必要。 \n8月 燃える闘魂 \n経営にはいかなる格闘技にもまさる激しい闘争心が必要。 \n9月 勇気をもって事に当たる \n卑怯な振る舞いがあってはならない。 \n10月 常に創造的な仕事をする \n今日よりは明日、明日よりは明後日と、常に改良改善を絶え間なく続ける。創意工夫を重ねる。 \n11月 思いやりの心で誠実に \n商いには相手がある。相手を含めて、ハッピーであること。皆が喜ぶこと。 \n12月 常に明るく前向きに、夢と希望を抱いて素直な心で経営をする \nゲストの受付 \nOK \nキャンセルの受付 \n2日前まで
URL:https://seishinjukuny.org/event/7_2018_getsurei/
END:VEVENT
BEGIN:VEVENT
DTSTART;TZID=UTC:20180621T191500
DTEND;TZID=UTC:20180621T210000
DTSTAMP:20260425T124435
CREATED:20180320T172946Z
LAST-MODIFIED:20180320T173000Z
UID:190-1529608500-1529614800@seishinjukuny.org
SUMMARY:6月 月例勉強会
DESCRIPTION:内容は確認中参加申し込みはこちらのEVENTBRITEページよりお申し込みください。 \nイベント名:  6月 月例勉強会 6/21(木)19:15〜 \n場所: 日系人会館  49 West 45th Street 11th Floor New York NY 10036 \n毎月定例の月例勉強会を開催いたします。勉強会が始まる前の18:45から19:15まで30分間の食事の時間をとっております。塾生の皆様と友好を深めていただく時間になればと思います。 \n当日の大まかなスケジュール \n18:45-19:15 食事（お弁当） \n(*去年まで食事は勉強会の後でしたが勉強会の前に食事の時間をとるようにいたしました。間に合わない場合は懇親会の時間まで冷蔵庫で保管いたします) \n19:15-21:00 月例勉強会 \n21:00-22:30 懇親会 \n  \n6月 月例勉強会 \n幹事名: 木田塾生、後藤塾生、鹿毛塾生 \n日時: 6/21/2018 Thu 19:15 ～21:00 \n司会：未定 \nテーマ：経営の原点12ヶ条　その6「値決めは経営」 \n  \n1. 「経営の原点12ヶ条」「6つの精進」の唱和 (19:15~19:25 10分) \n2. 塾長講話DVD視聴 (19:25~20:15 50分) \n経営原点12ヶ条に沿った塾長講和を視聴 \n3. 経営問答勉強会 \n経営問答集から題材を選んでグループ討議 \n(1) 司会による今回の経営問答を選んだねらいの説明 (20:15~20:20 5分) \n(2) 経営問答の質問を読んでグループ討議、塾長なら何と答えるか(20:20~20:35 15分) \n(3) 塾長回答を読み、自社の課題と対策を考えて、グループ内で発表 (20:35~20:55 20分) \n4. 次回の司会の選出 (20:55~21:00 5分) \n懇親会  (21:00~22:30) \n  \n<勉強会の各月のテーマ> \n(経営の原点12ヶ条に沿ったテーマとなります。) \n1月 事業の目的、意義を明確にする \n公明正大で大義名分のある高い目的を立てる。 \n2月 具体的な目標を立てる \n立てた目標は常に社員と共有する。 \n3月 強烈な願望を心に抱く \n潜在意識に透徹するほどの強く持続した願望を持つこと。 \n4月 誰にも負けない努力をする \n地味な仕事を一歩一歩堅実に、弛まぬ努力を続ける。 \n5月 売上を最大限に伸ばし、経費を最小限に抑える \n入るを量って、出ずるを制する。利益を追うのではない。利益は後からついてくる。 \n6月 値決めは経営 \n値決めはトップの仕事。お客様も喜び、自分も儲かるポイントは一点である。 \n7月 経営は強い意志で決まる \n経営には岩をもうがつ強い意志が必要。 \n8月 燃える闘魂 \n経営にはいかなる格闘技にもまさる激しい闘争心が必要。 \n9月 勇気をもって事に当たる \n卑怯な振る舞いがあってはならない。 \n10月 常に創造的な仕事をする \n今日よりは明日、明日よりは明後日と、常に改良改善を絶え間なく続ける。創意工夫を重ねる。 \n11月 思いやりの心で誠実に \n商いには相手がある。相手を含めて、ハッピーであること。皆が喜ぶこと。 \n12月 常に明るく前向きに、夢と希望を抱いて素直な心で経営をする \nゲストの受付 \nOK \nキャンセルの受付 \n2日前まで
URL:https://seishinjukuny.org/event/6_2018_getsurei/
LOCATION:日系人会館(JAA)\, 49 West 45th Street\, New York\, NY\, 10036\, United States
CATEGORIES:イベント
END:VEVENT
BEGIN:VEVENT
DTSTART;VALUE=DATE:20180602
DTEND;VALUE=DATE:20180604
DTSTAMP:20260425T124435
CREATED:20180425T165729Z
LAST-MODIFIED:20180425T165729Z
UID:221-1527897600-1528070399@seishinjukuny.org
SUMMARY:NY盛和塾合宿勉強会
DESCRIPTION:
URL:https://seishinjukuny.org/event/gassyuku-benkyokai-20180602/
END:VEVENT
BEGIN:VEVENT
DTSTART;TZID=UTC:20180524T073000
DTEND;TZID=UTC:20180524T083000
DTSTAMP:20260425T124435
CREATED:20180425T165606Z
LAST-MODIFIED:20180425T165626Z
UID:218-1527147000-1527150600@seishinjukuny.org
SUMMARY:English Seiwajyuku No.4
DESCRIPTION:Learning Inamori philosophy in English: Core assumptions: The Results of Life or Work = Attitude x Effort x Ability\nAbout this Event\nWe meet every third Thursday at 7:30 AM to achieve ; \nSet specific goals for 2018 to achieve an improvement of 10% over last year\nLearn and practice the key six habits of endeavors integral to the Inamori Philosophy\nPractice paying it forward by doing good for others at least once a week
URL:https://seishinjukuny.org/event/english-seiwajyuku-no-4/
CATEGORIES:イベント
END:VEVENT
BEGIN:VEVENT
DTSTART;TZID=UTC:20180517T191500
DTEND;TZID=UTC:20180517T210000
DTSTAMP:20260425T124435
CREATED:20180320T172618Z
LAST-MODIFIED:20180320T172722Z
UID:187-1526584500-1526590800@seishinjukuny.org
SUMMARY:5月 月例勉強会
DESCRIPTION:内容は確認中参加申し込みはこちらのEVENTBRITEページよりお申し込みください。 \nイベント名:  5月 月例勉強会 5/17(木)19:15〜 \n場所: 日系人会館  49 West 45th Street 11th Floor New York NY 10036 \n毎月定例の月例勉強会を開催いたします。勉強会が始まる前の18:45から19:15まで30分間の食事の時間をとっております。塾生の皆様と友好を深めていただく時間になればと思います。 \n当日の大まかなスケジュール \n18:45-19:15 食事（お弁当） \n(*去年まで食事は勉強会の後でしたが勉強会の前に食事の時間をとるようにいたしました。間に合わない場合は懇親会の時間まで冷蔵庫で保管いたします) \n19:15-21:00 月例勉強会 \n21:00-22:30 懇親会 \n  \n5月 月例勉強会 \n幹事名: 木田塾生、後藤塾生、鹿毛塾生 \n日時: 5/17/2018 Thu 19:15 ～21:00 \n司会：未定 \nテーマ：経営の原点12ヶ条　その5「売上を最大限に伸ばし、経費を最小限に抑える」 \n  \n1. 「経営の原点12ヶ条」「6つの精進」の唱和 (19:15~19:25 10分) \n2. 塾長講話DVD視聴 (19:25~20:15 50分) \n経営原点12ヶ条に沿った塾長講和を視聴 \n3. 経営問答勉強会 \n経営問答集から題材を選んでグループ討議 \n(1) 司会による今回の経営問答を選んだねらいの説明 (20:15~20:20 5分) \n(2) 経営問答の質問を読んでグループ討議、塾長なら何と答えるか(20:20~20:35 15分) \n(3) 塾長回答を読み、自社の課題と対策を考えて、グループ内で発表 (20:35~20:55 20分) \n4. 次回の司会の選出 (20:55~21:00 5分) \n懇親会  (21:00~22:30) \n  \n<勉強会の各月のテーマ> \n(経営の原点12ヶ条に沿ったテーマとなります。) \n1月 事業の目的、意義を明確にする \n公明正大で大義名分のある高い目的を立てる。 \n2月 具体的な目標を立てる \n立てた目標は常に社員と共有する。 \n3月 強烈な願望を心に抱く \n潜在意識に透徹するほどの強く持続した願望を持つこと。 \n4月 誰にも負けない努力をする \n地味な仕事を一歩一歩堅実に、弛まぬ努力を続ける。 \n5月 売上を最大限に伸ばし、経費を最小限に抑える \n入るを量って、出ずるを制する。利益を追うのではない。利益は後からついてくる。 \n6月 値決めは経営 \n値決めはトップの仕事。お客様も喜び、自分も儲かるポイントは一点である。 \n7月 経営は強い意志で決まる \n経営には岩をもうがつ強い意志が必要。 \n8月 燃える闘魂 \n経営にはいかなる格闘技にもまさる激しい闘争心が必要。 \n9月 勇気をもって事に当たる \n卑怯な振る舞いがあってはならない。 \n10月 常に創造的な仕事をする \n今日よりは明日、明日よりは明後日と、常に改良改善を絶え間なく続ける。創意工夫を重ねる。 \n11月 思いやりの心で誠実に \n商いには相手がある。相手を含めて、ハッピーであること。皆が喜ぶこと。 \n12月 常に明るく前向きに、夢と希望を抱いて素直な心で経営をする \nゲストの受付 \nOK \nキャンセルの受付 \n2日前まで
URL:https://seishinjukuny.org/event/5-2018_getsurei/
CATEGORIES:イベント
END:VEVENT
BEGIN:VEVENT
DTSTART;TZID=UTC:20180425T190000
DTEND;TZID=UTC:20180425T210000
DTSTAMP:20260425T124435
CREATED:20180425T165443Z
LAST-MODIFIED:20180425T165911Z
UID:216-1524682800-1524690000@seishinjukuny.org
SUMMARY:4月NY自主勉強会(切磋琢磨)
DESCRIPTION:塾生限定の勉強会です
URL:https://seishinjukuny.org/event/sessatakuma20180425/
CATEGORIES:イベント
END:VEVENT
BEGIN:VEVENT
DTSTART;TZID=UTC:20180423T190000
DTEND;TZID=UTC:20180423T223000
DTSTAMP:20260425T124435
CREATED:20180320T173307Z
LAST-MODIFIED:20180320T173332Z
UID:193-1524510000-1524522600@seishinjukuny.org
SUMMARY:4月会計勉強会
DESCRIPTION:この勉強会は塾生限定の勉強会となります。詳細はinfo@seiwajukuny.orgまでご連絡ください。
URL:https://seishinjukuny.org/event/2018-4-kaikei/
CATEGORIES:イベント
END:VEVENT
BEGIN:VEVENT
DTSTART;TZID=UTC:20180419T184500
DTEND;TZID=UTC:20180419T210000
DTSTAMP:20260425T124435
CREATED:20180126T175235Z
LAST-MODIFIED:20180320T172620Z
UID:152-1524163500-1524171600@seishinjukuny.org
SUMMARY:4月 月例勉強会
DESCRIPTION:内容は確認中参加申し込みはこちらのEVENTBRITEページよりお申し込みください。 \nイベント名:  4月 月例勉強会 4/19(木)19:15〜 \n場所: 日系人会館  49 West 45th Street 11th Floor New York NY 10036 \n毎月定例の月例勉強会を開催いたします。勉強会が始まる前の18:45から19:15まで30分間の食事の時間をとっております。塾生の皆様と友好を深めていただく時間になればと思います。 \n当日の大まかなスケジュール \n18:45-19:15 食事（お弁当） \n(*去年まで食事は勉強会の後でしたが勉強会の前に食事の時間をとるようにいたしました。間に合わない場合は懇親会の時間まで冷蔵庫で保管いたします) \n19:15-21:00 月例勉強会 \n21:00-22:30 懇親会 \n  \n4月 月例勉強会 \n幹事名: 木田塾生、後藤塾生、鹿毛塾生 \n日時: 4/19/2018 Thu 19:15 ～21:00 \n司会：岩上 塾生 \nテーマ：経営の原点12ヶ条　その4「誰にも負けない努力をする」 \n  \n1. 「経営の原点12ヶ条」「6つの精進」の唱和 (19:15~19:25 10分) \n2. 塾長講話DVD視聴 (19:25~20:15 50分) \n経営原点12ヶ条に沿った塾長講和を視聴 \n3. 経営問答勉強会 \n経営問答集から題材を選んでグループ討議 \n(1) 司会による今回の経営問答を選んだねらいの説明 (20:15~20:20 5分) \n(2) 経営問答の質問を読んでグループ討議、塾長なら何と答えるか(20:20~20:35 15分) \n(3) 塾長回答を読み、自社の課題と対策を考えて、グループ内で発表 (20:35~20:55 20分) \n4. 次回の司会の選出 (20:55~21:00 5分) \n懇親会  (21:00~22:30) \n  \n<勉強会の各月のテーマ> \n(経営の原点12ヶ条に沿ったテーマとなります。) \n1月 事業の目的、意義を明確にする \n公明正大で大義名分のある高い目的を立てる。 \n2月 具体的な目標を立てる \n立てた目標は常に社員と共有する。 \n3月 強烈な願望を心に抱く \n潜在意識に透徹するほどの強く持続した願望を持つこと。 \n4月 誰にも負けない努力をする \n地味な仕事を一歩一歩堅実に、弛まぬ努力を続ける。 \n5月 売上を最大限に伸ばし、経費を最小限に抑える \n入るを量って、出ずるを制する。利益を追うのではない。利益は後からついてくる。 \n6月 値決めは経営 \n値決めはトップの仕事。お客様も喜び、自分も儲かるポイントは一点である。 \n7月 経営は強い意志で決まる \n経営には岩をもうがつ強い意志が必要。 \n8月 燃える闘魂 \n経営にはいかなる格闘技にもまさる激しい闘争心が必要。 \n9月 勇気をもって事に当たる \n卑怯な振る舞いがあってはならない。 \n10月 常に創造的な仕事をする \n今日よりは明日、明日よりは明後日と、常に改良改善を絶え間なく続ける。創意工夫を重ねる。 \n11月 思いやりの心で誠実に \n商いには相手がある。相手を含めて、ハッピーであること。皆が喜ぶこと。 \n12月 常に明るく前向きに、夢と希望を抱いて素直な心で経営をする \nゲストの受付 \nOK \nキャンセルの受付 \n2日前まで
URL:https://seishinjukuny.org/event/4-2018_getsurei/
LOCATION:日系人会館(JAA)\, 49 West 45th Street\, New York\, NY\, 10036\, United States
CATEGORIES:イベント
END:VEVENT
BEGIN:VEVENT
DTSTART;TZID=UTC:20180328T190000
DTEND;TZID=UTC:20180328T220000
DTSTAMP:20260425T124435
CREATED:20180320T173453Z
LAST-MODIFIED:20180320T173458Z
UID:196-1522263600-1522274400@seishinjukuny.org
SUMMARY:NY自主勉強会(切磋琢磨)
DESCRIPTION:この勉強会は塾生限定の勉強会となります。詳細はinfo@seiwajukuny.orgまでご連絡ください。
URL:https://seishinjukuny.org/event/ny%e8%87%aa%e4%b8%bb%e5%8b%89%e5%bc%b7%e4%bc%9a%e5%88%87%e7%a3%8b%e7%90%a2%e7%a3%a8/
CATEGORIES:イベント
END:VEVENT
BEGIN:VEVENT
DTSTART;TZID=UTC:20180320T190000
DTEND;TZID=UTC:20180320T213000
DTSTAMP:20260425T124435
CREATED:20180320T190148Z
LAST-MODIFIED:20180320T190217Z
UID:210-1521572400-1521581400@seishinjukuny.org
SUMMARY:3月世話人会
DESCRIPTION:世話人のみの会となります。
URL:https://seishinjukuny.org/event/3_sewaninkai2018/
CATEGORIES:イベント
END:VEVENT
BEGIN:VEVENT
DTSTART;TZID=UTC:20180315T073000
DTEND;TZID=UTC:20180315T090000
DTSTAMP:20260425T124435
CREATED:20180320T173855Z
LAST-MODIFIED:20180320T174538Z
UID:198-1521099000-1521104400@seishinjukuny.org
SUMMARY:English Seiwajyuku
DESCRIPTION:Learning Inamori philosophy in English: Core assumptions: The Results of Life or Work = Attitude x Effort x Ability\nAbout this Event\nWe meet every third Thursday at 7:30 AM to achieve ; \nSet specific goals for 2018 to achieve an improvement of 10% over last year\nLearn and practice the key six habits of endeavors integral to the Inamori Philosophy\nPractice paying it forward by doing good for others at least once a week \nEvent Brite page : https://www.eventbrite.com/e/english-seiwajyuku-tickets-43712845297#
URL:https://seishinjukuny.org/event/english-seiwajyuku/
LOCATION:Katsu New York\, 350 5th Avenue 75th floor Room #7501\, New York\, 10001\, United States
CATEGORIES:イベント
END:VEVENT
BEGIN:VEVENT
DTSTART;TZID=UTC:20180314T184500
DTEND;TZID=UTC:20180314T213000
DTSTAMP:20260425T124435
CREATED:20180126T175108Z
LAST-MODIFIED:20180222T152315Z
UID:149-1521053100-1521063000@seishinjukuny.org
SUMMARY:3月 月例勉強会
DESCRIPTION:参加申し込みはこちらのEVENTBRITEページよりお申し込みください。 \nイベント名:  3月 月例勉強会 3/14(水)19:15〜 \n場所: 日系人会館  49 West 45th Street 11th Floor New York NY 10036 \n毎月定例の月例勉強会を開催いたします。先月と同様に勉強会が始まる前の18:45から19:15まで30分間の食事の時間をとっております。塾生の皆様と友好を深めていただく時間になればと思います。 \n当日の大まかなスケジュール \n18:45-19:15 食事（お弁当） \n(*去年まで食事は勉強会の後でしたが勉強会の前に食事の時間をとるようにいたしました。間に合わない場合は懇親会の時間まで冷蔵庫で保管いたします) \n19:15-21:00 月例勉強会 \n21:00-22:30 懇親会 \n  \n3月 月例勉強会 \n幹事名: 木田塾生、後藤塾生、鹿毛塾生 \n日時: 3/14/2018 Thu 19:15 ～21:00 \n司会：大西仁 塾生 \nテーマ：経営の原点12ヶ条　その3「強烈な願望を心に抱く」 \n  \n1. 「経営の原点12ヶ条」「6つの精進」の唱和 (19:15~19:25 10分) \n2. 塾長講話DVD視聴 (19:25~20:15 50分) \n経営原点12ヶ条に沿った塾長講和を視聴 \n3. 経営問答勉強会 \n経営問答集から題材を選んでグループ討議 \n(1) 司会による今回の経営問答を選んだねらいの説明 (20:15~20:20 5分) \n(2) 経営問答の質問を読んでグループ討議、塾長なら何と答えるか(20:20~20:35 15分) \n(3) 塾長回答を読み、自社の課題と対策を考えて、グループ内で発表 (20:35~20:55 20分) \n4. 次回の司会の選出 (20:55~21:00 5分) \n懇親会  (21:00~22:30) \n  \n<勉強会の各月のテーマ> \n(経営の原点12ヶ条に沿ったテーマとなります。) \n1月 事業の目的、意義を明確にする \n公明正大で大義名分のある高い目的を立てる。 \n2月 具体的な目標を立てる \n立てた目標は常に社員と共有する。 \n3月 強烈な願望を心に抱く \n潜在意識に透徹するほどの強く持続した願望を持つこと。 \n4月 誰にも負けない努力をする \n地味な仕事を一歩一歩堅実に、弛まぬ努力を続ける。 \n5月 売上を最大限に伸ばし、経費を最小限に抑える \n入るを量って、出ずるを制する。利益を追うのではない。利益は後からついてくる。 \n6月 値決めは経営 \n値決めはトップの仕事。お客様も喜び、自分も儲かるポイントは一点である。 \n7月 経営は強い意志で決まる \n経営には岩をもうがつ強い意志が必要。 \n8月 燃える闘魂 \n経営にはいかなる格闘技にもまさる激しい闘争心が必要。 \n9月 勇気をもって事に当たる \n卑怯な振る舞いがあってはならない。 \n10月 常に創造的な仕事をする \n今日よりは明日、明日よりは明後日と、常に改良改善を絶え間なく続ける。創意工夫を重ねる。 \n11月 思いやりの心で誠実に \n商いには相手がある。相手を含めて、ハッピーであること。皆が喜ぶこと。 \n12月 常に明るく前向きに、夢と希望を抱いて素直な心で経営をする \nゲストの受付 \nOK \nキャンセルの受付 \n2日前まで
URL:https://seishinjukuny.org/event/2018-03_geturesi/
CATEGORIES:イベント
ATTACH;FMTTYPE=image/jpeg:https://seishinjukuny.org/wp-content/uploads/2018/01/26220391_10204196402468187_6832451297346569452_o.jpg
END:VEVENT
END:VCALENDAR