BEGIN:VCALENDAR
VERSION:2.0
PRODID:-//盛心塾ニューヨーク公式ウェブサイト - ECPv6.15.13.1//NONSGML v1.0//EN
CALSCALE:GREGORIAN
METHOD:PUBLISH
X-WR-CALNAME:盛心塾ニューヨーク公式ウェブサイト
X-ORIGINAL-URL:https://seishinjukuny.org
X-WR-CALDESC:Events for 盛心塾ニューヨーク公式ウェブサイト
REFRESH-INTERVAL;VALUE=DURATION:PT1H
X-Robots-Tag:noindex
X-PUBLISHED-TTL:PT1H
BEGIN:VTIMEZONE
TZID:UTC
BEGIN:STANDARD
TZOFFSETFROM:+0000
TZOFFSETTO:+0000
TZNAME:UTC
DTSTART:20180101T000000
END:STANDARD
END:VTIMEZONE
BEGIN:VTIMEZONE
TZID:America/Halifax
BEGIN:DAYLIGHT
TZOFFSETFROM:-0400
TZOFFSETTO:-0300
TZNAME:ADT
DTSTART:20220313T060000
END:DAYLIGHT
BEGIN:STANDARD
TZOFFSETFROM:-0300
TZOFFSETTO:-0400
TZNAME:AST
DTSTART:20221106T050000
END:STANDARD
BEGIN:DAYLIGHT
TZOFFSETFROM:-0400
TZOFFSETTO:-0300
TZNAME:ADT
DTSTART:20230312T060000
END:DAYLIGHT
BEGIN:STANDARD
TZOFFSETFROM:-0300
TZOFFSETTO:-0400
TZNAME:AST
DTSTART:20231105T050000
END:STANDARD
BEGIN:DAYLIGHT
TZOFFSETFROM:-0400
TZOFFSETTO:-0300
TZNAME:ADT
DTSTART:20240310T060000
END:DAYLIGHT
BEGIN:STANDARD
TZOFFSETFROM:-0300
TZOFFSETTO:-0400
TZNAME:AST
DTSTART:20241103T050000
END:STANDARD
END:VTIMEZONE
BEGIN:VTIMEZONE
TZID:America/New_York
BEGIN:DAYLIGHT
TZOFFSETFROM:-0500
TZOFFSETTO:-0400
TZNAME:EDT
DTSTART:20220313T070000
END:DAYLIGHT
BEGIN:STANDARD
TZOFFSETFROM:-0400
TZOFFSETTO:-0500
TZNAME:EST
DTSTART:20221106T060000
END:STANDARD
BEGIN:DAYLIGHT
TZOFFSETFROM:-0500
TZOFFSETTO:-0400
TZNAME:EDT
DTSTART:20230312T070000
END:DAYLIGHT
BEGIN:STANDARD
TZOFFSETFROM:-0400
TZOFFSETTO:-0500
TZNAME:EST
DTSTART:20231105T060000
END:STANDARD
BEGIN:DAYLIGHT
TZOFFSETFROM:-0500
TZOFFSETTO:-0400
TZNAME:EDT
DTSTART:20240310T070000
END:DAYLIGHT
BEGIN:STANDARD
TZOFFSETFROM:-0400
TZOFFSETTO:-0500
TZNAME:EST
DTSTART:20241103T060000
END:STANDARD
END:VTIMEZONE
BEGIN:VEVENT
DTSTART;TZID=UTC:20230509T190000
DTEND;TZID=UTC:20230509T200000
DTSTAMP:20260424T110648
CREATED:20230206T152042Z
LAST-MODIFIED:20230206T152042Z
UID:577-1683658800-1683662400@seishinjukuny.org
SUMMARY:盛心塾NY 5月 世話人会
DESCRIPTION:
URL:https://seishinjukuny.org/event/%e7%9b%9b%e5%bf%83%e5%a1%beny-5%e6%9c%88-%e4%b8%96%e8%a9%b1%e4%ba%ba%e4%bc%9a/
LOCATION:ZOOMによるリモート勉強会
END:VEVENT
BEGIN:VEVENT
DTSTART;TZID=UTC:20230421T190000
DTEND;TZID=UTC:20230421T203000
DTSTAMP:20260424T110648
CREATED:20230206T145336Z
LAST-MODIFIED:20230206T145336Z
UID:534-1682103600-1682109000@seishinjukuny.org
SUMMARY:盛心塾NY 4月 自主勉強会/切磋琢磨会
DESCRIPTION:
URL:https://seishinjukuny.org/event/%e7%9b%9b%e5%bf%83%e5%a1%beny-4%e6%9c%88-%e8%87%aa%e4%b8%bb%e5%8b%89%e5%bc%b7%e4%bc%9a-%e5%88%87%e7%a3%8b%e7%90%a2%e7%a3%a8%e4%bc%9a/
LOCATION:ZOOMによるリモート勉強会
END:VEVENT
BEGIN:VEVENT
DTSTART;TZID=UTC:20230420T190000
DTEND;TZID=UTC:20230420T213000
DTSTAMP:20260424T110648
CREATED:20230206T143122Z
LAST-MODIFIED:20230206T143122Z
UID:501-1682017200-1682026200@seishinjukuny.org
SUMMARY:盛心塾NY 4月 月例勉強会
DESCRIPTION:
URL:https://seishinjukuny.org/event/%e7%9b%9b%e5%bf%83%e5%a1%beny-4%e6%9c%88-%e6%9c%88%e4%be%8b%e5%8b%89%e5%bc%b7%e4%bc%9a-2/
LOCATION:ZOOMによるリモート勉強会
END:VEVENT
BEGIN:VEVENT
DTSTART;TZID=UTC:20230419T070000
DTEND;TZID=UTC:20230419T080000
DTSTAMP:20260424T110648
CREATED:20230216T140800Z
LAST-MODIFIED:20230216T140800Z
UID:622-1681887600-1681891200@seishinjukuny.org
SUMMARY:盛心塾NY 4月　英語塾
DESCRIPTION:
URL:https://seishinjukuny.org/event/%e7%9b%9b%e5%bf%83%e5%a1%beny-4%e6%9c%88%e3%80%80%e8%8b%b1%e8%aa%9e%e5%a1%be/
LOCATION:ZOOMによるリモート勉強会
END:VEVENT
BEGIN:VEVENT
DTSTART;TZID=America/Halifax:20230414T060000
DTEND;TZID=America/Halifax:20230414T083000
DTSTAMP:20260424T110648
CREATED:20230206T153024Z
LAST-MODIFIED:20230206T153724Z
UID:597-1681452000-1681461000@seishinjukuny.org
SUMMARY:盛心塾NY 4月 機関誌早朝輪読会
DESCRIPTION:
URL:https://seishinjukuny.org/event/%e7%9b%9b%e5%bf%83%e5%a1%beny-4%e6%9c%88-%e6%a9%9f%e9%96%a2%e8%aa%8c%e6%97%a9%e6%9c%9d%e8%bc%aa%e8%aa%ad%e4%bc%9a/
LOCATION:ZOOMによるリモート勉強会
END:VEVENT
BEGIN:VEVENT
DTSTART;TZID=UTC:20230411T190000
DTEND;TZID=UTC:20230411T200000
DTSTAMP:20260424T110648
CREATED:20230206T152017Z
LAST-MODIFIED:20230206T152017Z
UID:575-1681239600-1681243200@seishinjukuny.org
SUMMARY:盛心塾NY 4月 世話人会
DESCRIPTION:
URL:https://seishinjukuny.org/event/%e7%9b%9b%e5%bf%83%e5%a1%beny-4%e6%9c%88-%e4%b8%96%e8%a9%b1%e4%ba%ba%e4%bc%9a/
LOCATION:ZOOMによるリモート勉強会
END:VEVENT
BEGIN:VEVENT
DTSTART;TZID=UTC:20230317T190000
DTEND;TZID=UTC:20230317T203000
DTSTAMP:20260424T110648
CREATED:20230206T145213Z
LAST-MODIFIED:20230206T145213Z
UID:529-1679079600-1679085000@seishinjukuny.org
SUMMARY:盛心塾NY 3月 自主勉強会/切磋琢磨会
DESCRIPTION:
URL:https://seishinjukuny.org/event/%e7%9b%9b%e5%bf%83%e5%a1%beny-3%e6%9c%88-%e8%87%aa%e4%b8%bb%e5%8b%89%e5%bc%b7%e4%bc%9a-%e5%88%87%e7%a3%8b%e7%90%a2%e7%a3%a8%e4%bc%9a/
LOCATION:ZOOMによるリモート勉強会
END:VEVENT
BEGIN:VEVENT
DTSTART;TZID=UTC:20230316T190000
DTEND;TZID=UTC:20230316T213000
DTSTAMP:20260424T110648
CREATED:20230206T143022Z
LAST-MODIFIED:20230206T143022Z
UID:499-1678993200-1679002200@seishinjukuny.org
SUMMARY:盛心塾NY 3月 月例勉強会
DESCRIPTION:
URL:https://seishinjukuny.org/event/%e7%9b%9b%e5%bf%83%e5%a1%beny-3%e6%9c%88-%e6%9c%88%e4%be%8b%e5%8b%89%e5%bc%b7%e4%bc%9a/
LOCATION:ZOOMによるリモート勉強会
END:VEVENT
BEGIN:VEVENT
DTSTART;TZID=UTC:20230315T070000
DTEND;TZID=UTC:20230315T080000
DTSTAMP:20260424T110648
CREATED:20230216T140644Z
LAST-MODIFIED:20230216T140644Z
UID:620-1678863600-1678867200@seishinjukuny.org
SUMMARY:盛心塾NY 3月　英語塾
DESCRIPTION:
URL:https://seishinjukuny.org/event/%e7%9b%9b%e5%bf%83%e5%a1%beny-3%e6%9c%88%e3%80%80%e8%8b%b1%e8%aa%9e%e5%a1%be/
LOCATION:ZOOMによるリモート勉強会
END:VEVENT
BEGIN:VEVENT
DTSTART;TZID=UTC:20230314T190000
DTEND;TZID=UTC:20230314T200000
DTSTAMP:20260424T110648
CREATED:20230206T151957Z
LAST-MODIFIED:20230206T151957Z
UID:573-1678820400-1678824000@seishinjukuny.org
SUMMARY:盛心塾NY 3月 世話人会
DESCRIPTION:
URL:https://seishinjukuny.org/event/%e7%9b%9b%e5%bf%83%e5%a1%beny-3%e6%9c%88-%e4%b8%96%e8%a9%b1%e4%ba%ba%e4%bc%9a/
LOCATION:ZOOMによるリモート勉強会
END:VEVENT
BEGIN:VEVENT
DTSTART;TZID=America/New_York:20230310T060000
DTEND;TZID=America/New_York:20230310T083000
DTSTAMP:20260424T110648
CREATED:20230206T152926Z
LAST-MODIFIED:20230206T153744Z
UID:595-1678428000-1678437000@seishinjukuny.org
SUMMARY:盛心塾NY 3月 機関誌早朝輪読会
DESCRIPTION:
URL:https://seishinjukuny.org/event/%e7%9b%9b%e5%bf%83%e5%a1%beny-3%e6%9c%88-%e6%a9%9f%e9%96%a2%e8%aa%8c%e6%97%a9%e6%9c%9d%e8%bc%aa%e8%aa%ad%e4%bc%9a/
LOCATION:ZOOMによるリモート勉強会
END:VEVENT
BEGIN:VEVENT
DTSTART;TZID=UTC:20230217T190000
DTEND;TZID=UTC:20230217T203000
DTSTAMP:20260424T110648
CREATED:20230206T144207Z
LAST-MODIFIED:20230206T144946Z
UID:523-1676660400-1676665800@seishinjukuny.org
SUMMARY:盛心塾NY 2月 自主勉強会/切磋琢磨会
DESCRIPTION:
URL:https://seishinjukuny.org/event/%e7%9b%9b%e5%bf%83%e5%a1%beny-2%e6%9c%88-%e8%87%aa%e4%b8%bb%e5%8b%89%e5%bc%b7%e4%bc%9a/
LOCATION:ZOOMによるリモート勉強会
END:VEVENT
BEGIN:VEVENT
DTSTART;TZID=UTC:20230216T190000
DTEND;TZID=UTC:20230216T213000
DTSTAMP:20260424T110648
CREATED:20230206T142917Z
LAST-MODIFIED:20230206T142917Z
UID:497-1676574000-1676583000@seishinjukuny.org
SUMMARY:盛心塾NY 2月 月例勉強会
DESCRIPTION:
URL:https://seishinjukuny.org/event/%e7%9b%9b%e5%bf%83%e5%a1%beny-2%e6%9c%88-%e6%9c%88%e4%be%8b%e5%8b%89%e5%bc%b7%e4%bc%9a/
LOCATION:ZOOMによるリモート勉強会
END:VEVENT
BEGIN:VEVENT
DTSTART;TZID=UTC:20230215T190000
DTEND;TZID=UTC:20230215T200000
DTSTAMP:20260424T110648
CREATED:20230206T151932Z
LAST-MODIFIED:20230206T151932Z
UID:571-1676487600-1676491200@seishinjukuny.org
SUMMARY:盛心塾NY 2月 世話人会
DESCRIPTION:
URL:https://seishinjukuny.org/event/%e7%9b%9b%e5%bf%83%e5%a1%beny-2%e6%9c%88-%e4%b8%96%e8%a9%b1%e4%ba%ba%e4%bc%9a/
LOCATION:ZOOMによるリモート勉強会
END:VEVENT
BEGIN:VEVENT
DTSTART;TZID=America/New_York:20230210T060000
DTEND;TZID=America/New_York:20230210T083000
DTSTAMP:20260424T110648
CREATED:20230206T152805Z
LAST-MODIFIED:20230206T152805Z
UID:593-1676008800-1676017800@seishinjukuny.org
SUMMARY:盛心塾NY 2月 機関誌早朝輪読会
DESCRIPTION:
URL:https://seishinjukuny.org/event/%e7%9b%9b%e5%bf%83%e5%a1%beny-2%e6%9c%88-%e6%a9%9f%e9%96%a2%e8%aa%8c%e6%97%a9%e6%9c%9d%e8%bc%aa%e8%aa%ad%e4%bc%9a/
LOCATION:ZOOMによるリモート勉強会
END:VEVENT
BEGIN:VEVENT
DTSTART;TZID=UTC:20221215T190000
DTEND;TZID=UTC:20221215T213000
DTSTAMP:20260424T110648
CREATED:20221018T233214Z
LAST-MODIFIED:20221018T233348Z
UID:482-1671130800-1671139800@seishinjukuny.org
SUMMARY:盛心塾NY 12月 月例勉強会(望年会)
DESCRIPTION:
URL:https://seishinjukuny.org/event/%e7%9b%9b%e5%bf%83%e5%a1%beny-12%e6%9c%88-%e6%9c%88%e4%be%8b%e5%8b%89%e5%bc%b7%e4%bc%9a/
LOCATION:ZOOMによるリモート勉強会
CATEGORIES:イベント
END:VEVENT
BEGIN:VEVENT
DTSTART;TZID=UTC:20221117T190000
DTEND;TZID=UTC:20221117T210000
DTSTAMP:20260424T110648
CREATED:20221018T233114Z
LAST-MODIFIED:20221018T233114Z
UID:480-1668711600-1668718800@seishinjukuny.org
SUMMARY:盛心塾NY 11月 月例勉強会
DESCRIPTION:
URL:https://seishinjukuny.org/event/%e7%9b%9b%e5%bf%83%e5%a1%beny-11%e6%9c%88-%e6%9c%88%e4%be%8b%e5%8b%89%e5%bc%b7%e4%bc%9a/
LOCATION:ZOOMによるリモート勉強会
CATEGORIES:イベント
END:VEVENT
BEGIN:VEVENT
DTSTART;TZID=UTC:20221026T190000
DTEND;TZID=UTC:20221026T210000
DTSTAMP:20260424T110648
CREATED:20221018T233720Z
LAST-MODIFIED:20221018T233720Z
UID:486-1666810800-1666818000@seishinjukuny.org
SUMMARY:盛心塾NY 10月 自主勉強会
DESCRIPTION:
URL:https://seishinjukuny.org/event/%e7%9b%9b%e5%bf%83%e5%a1%beny-10%e6%9c%88-%e8%87%aa%e4%b8%bb%e5%8b%89%e5%bc%b7%e4%bc%9a/
LOCATION:ZOOMによるリモート勉強会
CATEGORIES:イベント
END:VEVENT
BEGIN:VEVENT
DTSTART;TZID=UTC:20221020T190000
DTEND;TZID=UTC:20221020T210000
DTSTAMP:20260424T110648
CREATED:20221018T233008Z
LAST-MODIFIED:20221018T233008Z
UID:478-1666292400-1666299600@seishinjukuny.org
SUMMARY:盛心塾NY 10月 月例勉強会
DESCRIPTION:
URL:https://seishinjukuny.org/event/%e7%9b%9b%e5%bf%83%e5%a1%beny-10%e6%9c%88-%e6%9c%88%e4%be%8b%e5%8b%89%e5%bc%b7%e4%bc%9a/
LOCATION:ZOOMによるリモート勉強会
CATEGORIES:イベント
END:VEVENT
BEGIN:VEVENT
DTSTART;TZID=UTC:20220519T190000
DTEND;TZID=UTC:20220519T210000
DTSTAMP:20260424T110648
CREATED:20210216T215547Z
LAST-MODIFIED:20220419T234330Z
UID:384-1652986800-1652994000@seishinjukuny.org
SUMMARY:盛心塾NY 5月 月例勉強会
DESCRIPTION:
URL:https://seishinjukuny.org/event/2022-05/
LOCATION:ZOOMによるリモート勉強会
CATEGORIES:イベント
END:VEVENT
BEGIN:VEVENT
DTSTART;TZID=UTC:20220426T190000
DTEND;TZID=UTC:20220426T210000
DTSTAMP:20260424T110648
CREATED:20220419T234537Z
LAST-MODIFIED:20220419T234644Z
UID:439-1650999600-1651006800@seishinjukuny.org
SUMMARY:盛心塾NY 4月自主勉強会　
DESCRIPTION:
URL:https://seishinjukuny.org/event/4%e6%9c%8826%e6%97%a5%e8%87%aa%e4%b8%bb%e5%8b%89%e5%bc%b7%e4%bc%9a%e3%80%80/
LOCATION:ZOOMによるリモート勉強会
CATEGORIES:イベント
END:VEVENT
BEGIN:VEVENT
DTSTART;TZID=UTC:20220421T190000
DTEND;TZID=UTC:20220421T210000
DTSTAMP:20260424T110648
CREATED:20220419T233620Z
LAST-MODIFIED:20220419T233620Z
UID:434-1650567600-1650574800@seishinjukuny.org
SUMMARY:盛心塾NY 4月 月例勉強会
DESCRIPTION:次回の盛心塾NY月例勉強会は4/21(木)を予定しております。\nZOOMを使ったリモートでの開催となります。\n今月の勉強会は、板越塾生と内海塾生の経営体験発表です。司会は石山塾生と君島塾生となっております。
URL:https://seishinjukuny.org/event/%e7%9b%9b%e5%bf%83%e5%a1%beny-4%e6%9c%88-%e6%9c%88%e4%be%8b%e5%8b%89%e5%bc%b7%e4%bc%9a/
LOCATION:ZOOMによるリモート勉強会
CATEGORIES:イベント
END:VEVENT
BEGIN:VEVENT
DTSTART;TZID=UTC:20200917T190000
DTEND;TZID=UTC:20200917T210000
DTSTAMP:20260424T110648
CREATED:20200622T115044Z
LAST-MODIFIED:20200622T115112Z
UID:355-1600369200-1600376400@seishinjukuny.org
SUMMARY:盛心塾NY 9月月例勉強会
DESCRIPTION:
URL:https://seishinjukuny.org/event/%e7%9b%9b%e5%bf%83%e5%a1%beny-9%e6%9c%88%e6%9c%88%e4%be%8b%e5%8b%89%e5%bc%b7%e4%bc%9a/
CATEGORIES:イベント
END:VEVENT
BEGIN:VEVENT
DTSTART;TZID=UTC:20200820T190000
DTEND;TZID=UTC:20200820T210000
DTSTAMP:20260424T110648
CREATED:20200622T114959Z
LAST-MODIFIED:20200622T114959Z
UID:353-1597950000-1597957200@seishinjukuny.org
SUMMARY:盛心塾NY 8月月例勉強会
DESCRIPTION:開催方法は未定
URL:https://seishinjukuny.org/event/%e7%9b%9b%e5%bf%83%e5%a1%beny-8%e6%9c%88%e6%9c%88%e4%be%8b%e5%8b%89%e5%bc%b7%e4%bc%9a/
CATEGORIES:イベント
END:VEVENT
BEGIN:VEVENT
DTSTART;TZID=UTC:20200716T190000
DTEND;TZID=UTC:20200716T210000
DTSTAMP:20260424T110648
CREATED:20200622T114836Z
LAST-MODIFIED:20200622T114836Z
UID:351-1594926000-1594933200@seishinjukuny.org
SUMMARY:盛心塾NY 7月月例勉強会
DESCRIPTION:Zoomにて開催予定
URL:https://seishinjukuny.org/event/%e7%9b%9b%e5%bf%83%e5%a1%beny-7%e6%9c%88%e6%9c%88%e4%be%8b%e5%8b%89%e5%bc%b7%e4%bc%9a/
LOCATION:ZOOMによるリモート勉強会
CATEGORIES:イベント
END:VEVENT
BEGIN:VEVENT
DTSTART;TZID=UTC:20200618T190000
DTEND;TZID=UTC:20200618T210000
DTSTAMP:20260424T110648
CREATED:20200522T131434Z
LAST-MODIFIED:20200522T131434Z
UID:342-1592506800-1592514000@seishinjukuny.org
SUMMARY:盛心塾NY 6月 月例勉強会
DESCRIPTION:
URL:https://seishinjukuny.org/event/%e7%9b%9b%e5%bf%83%e5%a1%beny-6%e6%9c%88-%e6%9c%88%e4%be%8b%e5%8b%89%e5%bc%b7%e4%bc%9a/
LOCATION:ZOOMによるリモート勉強会
CATEGORIES:イベント
END:VEVENT
BEGIN:VEVENT
DTSTART;TZID=UTC:20191219T190000
DTEND;TZID=UTC:20191219T210000
DTSTAMP:20260424T110648
CREATED:20191118T140004Z
LAST-MODIFIED:20191118T140004Z
UID:301-1576782000-1576789200@seishinjukuny.org
SUMMARY:盛和塾NY総会、12月月例勉強会、望年会
DESCRIPTION:
URL:https://seishinjukuny.org/event/%e7%9b%9b%e5%92%8c%e5%a1%beny%e7%b7%8f%e4%bc%9a%e3%80%8112%e6%9c%88%e6%9c%88%e4%be%8b%e5%8b%89%e5%bc%b7%e4%bc%9a%e3%80%81%e6%9c%9b%e5%b9%b4%e4%bc%9a/
LOCATION:日系人会館(JAA)\, 49 West 45th Street\, New York\, NY\, 10036\, United States
END:VEVENT
BEGIN:VEVENT
DTSTART;TZID=UTC:20191121T190000
DTEND;TZID=UTC:20191121T190000
DTSTAMP:20260424T110648
CREATED:20191118T135858Z
LAST-MODIFIED:20191118T135858Z
UID:299-1574362800-1574362800@seishinjukuny.org
SUMMARY:11月月例勉強会
DESCRIPTION:
URL:https://seishinjukuny.org/event/11%e6%9c%88%e6%9c%88%e4%be%8b%e5%8b%89%e5%bc%b7%e4%bc%9a/
LOCATION:日系人会館(JAA)\, 49 West 45th Street\, New York\, NY\, 10036\, United States
CATEGORIES:イベント
END:VEVENT
BEGIN:VEVENT
DTSTART;TZID=UTC:20190912T184500
DTEND;TZID=UTC:20190912T210000
DTSTAMP:20260424T110648
CREATED:20190822T170746Z
LAST-MODIFIED:20190822T170746Z
UID:291-1568313900-1568322000@seishinjukuny.org
SUMMARY:9/12 月例勉強会
DESCRIPTION:
URL:https://seishinjukuny.org/event/9-12-%e6%9c%88%e4%be%8b%e5%8b%89%e5%bc%b7%e4%bc%9a/
LOCATION:日系人会館(JAA)\, 49 West 45th Street\, New York\, NY\, 10036\, United States
END:VEVENT
BEGIN:VEVENT
DTSTART;TZID=UTC:20190309T090000
DTEND;TZID=UTC:20190310T170000
DTSTAMP:20260424T110648
CREATED:20181018T190104Z
LAST-MODIFIED:20181018T190104Z
UID:262-1552122000-1552237200@seishinjukuny.org
SUMMARY:北米交流勉強会及びブロック選考会
DESCRIPTION:
URL:https://seishinjukuny.org/event/%e5%8c%97%e7%b1%b3%e4%ba%a4%e6%b5%81%e5%8b%89%e5%bc%b7%e4%bc%9a%e5%8f%8a%e3%81%b3%e3%83%96%e3%83%ad%e3%83%83%e3%82%af%e9%81%b8%e8%80%83%e4%bc%9a/
ATTACH;FMTTYPE=image/jpeg:https://seishinjukuny.org/wp-content/uploads/2018/01/26220391_10204196402468187_6832451297346569452_o.jpg
END:VEVENT
END:VCALENDAR