BEGIN:VCALENDAR
VERSION:2.0
PRODID:-//盛心塾ニューヨーク公式ウェブサイト - ECPv6.15.13.1//NONSGML v1.0//EN
CALSCALE:GREGORIAN
METHOD:PUBLISH
X-WR-CALNAME:盛心塾ニューヨーク公式ウェブサイト
X-ORIGINAL-URL:https://seishinjukuny.org
X-WR-CALDESC:Events for 盛心塾ニューヨーク公式ウェブサイト
REFRESH-INTERVAL;VALUE=DURATION:PT1H
X-Robots-Tag:noindex
X-PUBLISHED-TTL:PT1H
BEGIN:VTIMEZONE
TZID:UTC
BEGIN:STANDARD
TZOFFSETFROM:+0000
TZOFFSETTO:+0000
TZNAME:UTC
DTSTART:20210101T000000
END:STANDARD
END:VTIMEZONE
BEGIN:VEVENT
DTSTART;TZID=UTC:20221020T190000
DTEND;TZID=UTC:20221020T210000
DTSTAMP:20260426T032814
CREATED:20221018T233008Z
LAST-MODIFIED:20221018T233008Z
UID:478-1666292400-1666299600@seishinjukuny.org
SUMMARY:盛心塾NY 10月 月例勉強会
DESCRIPTION:
URL:https://seishinjukuny.org/event/%e7%9b%9b%e5%bf%83%e5%a1%beny-10%e6%9c%88-%e6%9c%88%e4%be%8b%e5%8b%89%e5%bc%b7%e4%bc%9a/
LOCATION:ZOOMによるリモート勉強会
CATEGORIES:イベント
END:VEVENT
BEGIN:VEVENT
DTSTART;TZID=UTC:20221026T190000
DTEND;TZID=UTC:20221026T210000
DTSTAMP:20260426T032814
CREATED:20221018T233720Z
LAST-MODIFIED:20221018T233720Z
UID:486-1666810800-1666818000@seishinjukuny.org
SUMMARY:盛心塾NY 10月 自主勉強会
DESCRIPTION:
URL:https://seishinjukuny.org/event/%e7%9b%9b%e5%bf%83%e5%a1%beny-10%e6%9c%88-%e8%87%aa%e4%b8%bb%e5%8b%89%e5%bc%b7%e4%bc%9a/
LOCATION:ZOOMによるリモート勉強会
CATEGORIES:イベント
END:VEVENT
END:VCALENDAR