BEGIN:VCALENDAR
VERSION:2.0
PRODID:-//盛心塾ニューヨーク公式ウェブサイト - ECPv6.15.13.1//NONSGML v1.0//EN
CALSCALE:GREGORIAN
METHOD:PUBLISH
X-WR-CALNAME:盛心塾ニューヨーク公式ウェブサイト
X-ORIGINAL-URL:https://seishinjukuny.org
X-WR-CALDESC:Events for 盛心塾ニューヨーク公式ウェブサイト
REFRESH-INTERVAL;VALUE=DURATION:PT1H
X-Robots-Tag:noindex
X-PUBLISHED-TTL:PT1H
BEGIN:VTIMEZONE
TZID:UTC
BEGIN:STANDARD
TZOFFSETFROM:+0000
TZOFFSETTO:+0000
TZNAME:UTC
DTSTART:20230101T000000
END:STANDARD
END:VTIMEZONE
BEGIN:VTIMEZONE
TZID:America/Halifax
BEGIN:DAYLIGHT
TZOFFSETFROM:-0400
TZOFFSETTO:-0300
TZNAME:ADT
DTSTART:20230312T060000
END:DAYLIGHT
BEGIN:STANDARD
TZOFFSETFROM:-0300
TZOFFSETTO:-0400
TZNAME:AST
DTSTART:20231105T050000
END:STANDARD
BEGIN:DAYLIGHT
TZOFFSETFROM:-0400
TZOFFSETTO:-0300
TZNAME:ADT
DTSTART:20240310T060000
END:DAYLIGHT
BEGIN:STANDARD
TZOFFSETFROM:-0300
TZOFFSETTO:-0400
TZNAME:AST
DTSTART:20241103T050000
END:STANDARD
BEGIN:DAYLIGHT
TZOFFSETFROM:-0400
TZOFFSETTO:-0300
TZNAME:ADT
DTSTART:20250309T060000
END:DAYLIGHT
BEGIN:STANDARD
TZOFFSETFROM:-0300
TZOFFSETTO:-0400
TZNAME:AST
DTSTART:20251102T050000
END:STANDARD
END:VTIMEZONE
BEGIN:VEVENT
DTSTART;TZID=UTC:20241008T190000
DTEND;TZID=UTC:20241008T200000
DTSTAMP:20260424T171718
CREATED:20230206T152257Z
LAST-MODIFIED:20240618T235302Z
UID:587-1728414000-1728417600@seishinjukuny.org
SUMMARY:盛心塾NY 10月 世話人会
DESCRIPTION:
URL:https://seishinjukuny.org/event/%e7%9b%9b%e5%bf%83%e5%a1%beny-10%e6%9c%88-%e4%b8%96%e8%a9%b1%e4%ba%ba%e4%bc%9a/
LOCATION:ZOOMによるリモート勉強会
END:VEVENT
BEGIN:VEVENT
DTSTART;TZID=America/Halifax:20241011T060000
DTEND;TZID=America/Halifax:20241011T083000
DTSTAMP:20260424T171718
CREATED:20230206T153402Z
LAST-MODIFIED:20240618T235247Z
UID:609-1728626400-1728635400@seishinjukuny.org
SUMMARY:盛心塾NY 10月 機関誌早朝輪読会
DESCRIPTION:
URL:https://seishinjukuny.org/event/%e7%9b%9b%e5%bf%83%e5%a1%beny-10%e6%9c%88-%e6%a9%9f%e9%96%a2%e8%aa%8c%e6%97%a9%e6%9c%9d%e8%bc%aa%e8%aa%ad%e4%bc%9a/
LOCATION:ZOOMによるリモート勉強会
END:VEVENT
BEGIN:VEVENT
DTSTART;TZID=UTC:20241016T070000
DTEND;TZID=UTC:20241016T080000
DTSTAMP:20260424T171718
CREATED:20230216T141152Z
LAST-MODIFIED:20240618T235230Z
UID:634-1729062000-1729065600@seishinjukuny.org
SUMMARY:盛心塾NY 10月　英語塾
DESCRIPTION:
URL:https://seishinjukuny.org/event/%e7%9b%9b%e5%bf%83%e5%a1%beny-10%e6%9c%88%e3%80%80%e8%8b%b1%e8%aa%9e%e5%a1%be/
LOCATION:ZOOMによるリモート勉強会
END:VEVENT
BEGIN:VEVENT
DTSTART;TZID=UTC:20241017T190000
DTEND;TZID=UTC:20241017T213000
DTSTAMP:20260424T171718
CREATED:20230206T143637Z
LAST-MODIFIED:20240618T232809Z
UID:516-1729191600-1729200600@seishinjukuny.org
SUMMARY:盛心塾NY 10月 月例勉強会
DESCRIPTION:
URL:https://seishinjukuny.org/event/%e7%9b%9b%e5%bf%83%e5%a1%beny-10%e6%9c%88-%e6%9c%88%e4%be%8b%e5%8b%89%e5%bc%b7%e4%bc%9a-2/
LOCATION:ZOOMによるリモート勉強会
END:VEVENT
BEGIN:VEVENT
DTSTART;TZID=UTC:20241028T190000
DTEND;TZID=UTC:20241028T203000
DTSTAMP:20260424T171718
CREATED:20230206T151452Z
LAST-MODIFIED:20240619T000255Z
UID:559-1730142000-1730147400@seishinjukuny.org
SUMMARY:盛心塾NY 10月 自主勉強会/切磋琢磨会
DESCRIPTION:
URL:https://seishinjukuny.org/event/%e7%9b%9b%e5%bf%83%e5%a1%beny-10%e6%9c%88-%e8%87%aa%e4%b8%bb%e5%8b%89%e5%bc%b7%e4%bc%9a-%e5%88%87%e7%a3%8b%e7%90%a2%e7%a3%a8%e4%bc%9a/
LOCATION:ZOOMによるリモート勉強会
END:VEVENT
END:VCALENDAR