BEGIN:VCALENDAR
VERSION:2.0
PRODID:-//盛心塾ニューヨーク公式ウェブサイト - ECPv6.15.13.1//NONSGML v1.0//EN
CALSCALE:GREGORIAN
METHOD:PUBLISH
X-WR-CALNAME:盛心塾ニューヨーク公式ウェブサイト
X-ORIGINAL-URL:https://seishinjukuny.org
X-WR-CALDESC:Events for 盛心塾ニューヨーク公式ウェブサイト
REFRESH-INTERVAL;VALUE=DURATION:PT1H
X-Robots-Tag:noindex
X-PUBLISHED-TTL:PT1H
BEGIN:VTIMEZONE
TZID:UTC
BEGIN:STANDARD
TZOFFSETFROM:+0000
TZOFFSETTO:+0000
TZNAME:UTC
DTSTART:20230101T000000
END:STANDARD
END:VTIMEZONE
BEGIN:VTIMEZONE
TZID:America/New_York
BEGIN:DAYLIGHT
TZOFFSETFROM:-0500
TZOFFSETTO:-0400
TZNAME:EDT
DTSTART:20230312T070000
END:DAYLIGHT
BEGIN:STANDARD
TZOFFSETFROM:-0400
TZOFFSETTO:-0500
TZNAME:EST
DTSTART:20231105T060000
END:STANDARD
BEGIN:DAYLIGHT
TZOFFSETFROM:-0500
TZOFFSETTO:-0400
TZNAME:EDT
DTSTART:20240310T070000
END:DAYLIGHT
BEGIN:STANDARD
TZOFFSETFROM:-0400
TZOFFSETTO:-0500
TZNAME:EST
DTSTART:20241103T060000
END:STANDARD
BEGIN:DAYLIGHT
TZOFFSETFROM:-0500
TZOFFSETTO:-0400
TZNAME:EDT
DTSTART:20250309T070000
END:DAYLIGHT
BEGIN:STANDARD
TZOFFSETFROM:-0400
TZOFFSETTO:-0500
TZNAME:EST
DTSTART:20251102T060000
END:STANDARD
END:VTIMEZONE
BEGIN:VEVENT
DTSTART;TZID=UTC:20241210T190000
DTEND;TZID=UTC:20241210T200000
DTSTAMP:20260424T133252
CREATED:20230206T152348Z
LAST-MODIFIED:20240618T233328Z
UID:591-1733857200-1733860800@seishinjukuny.org
SUMMARY:盛心塾NY 12月 世話人会
DESCRIPTION:
URL:https://seishinjukuny.org/event/%e7%9b%9b%e5%bf%83%e5%a1%beny-12%e6%9c%88-%e4%b8%96%e8%a9%b1%e4%ba%ba%e4%bc%9a/
LOCATION:ZOOMによるリモート勉強会
END:VEVENT
BEGIN:VEVENT
DTSTART;TZID=America/New_York:20241213T060000
DTEND;TZID=America/New_York:20241213T083000
DTSTAMP:20260424T133252
CREATED:20230206T153503Z
LAST-MODIFIED:20240618T233222Z
UID:613-1734069600-1734078600@seishinjukuny.org
SUMMARY:盛心塾NY 12月 機関誌早朝輪読会
DESCRIPTION:
URL:https://seishinjukuny.org/event/%e7%9b%9b%e5%bf%83%e5%a1%beny-12%e6%9c%88-%e6%a9%9f%e9%96%a2%e8%aa%8c%e6%97%a9%e6%9c%9d%e8%bc%aa%e8%aa%ad%e4%bc%9a/
LOCATION:ZOOMによるリモート勉強会
END:VEVENT
BEGIN:VEVENT
DTSTART;TZID=UTC:20241218T070000
DTEND;TZID=UTC:20241218T080000
DTSTAMP:20260424T133252
CREATED:20230216T141302Z
LAST-MODIFIED:20240618T233017Z
UID:638-1734505200-1734508800@seishinjukuny.org
SUMMARY:盛心塾NY 12月　英語塾
DESCRIPTION:
URL:https://seishinjukuny.org/event/%e7%9b%9b%e5%bf%83%e5%a1%beny-12%e6%9c%88%e3%80%80%e8%8b%b1%e8%aa%9e%e5%a1%be/
LOCATION:ZOOMによるリモート勉強会
END:VEVENT
BEGIN:VEVENT
DTSTART;TZID=UTC:20241219T190000
DTEND;TZID=UTC:20241219T213000
DTSTAMP:20260424T133252
CREATED:20230206T143806Z
LAST-MODIFIED:20240618T232920Z
UID:520-1734634800-1734643800@seishinjukuny.org
SUMMARY:盛心塾NY 12月 月例勉強会 (懇親会＋望年会）ハイブリッド予定
DESCRIPTION:
URL:https://seishinjukuny.org/event/%e7%9b%9b%e5%bf%83%e5%a1%beny-12%e6%9c%88-%e6%9c%88%e4%be%8b%e5%8b%89%e5%bc%b7%e4%bc%9a-%e6%87%87%e8%a6%aa%e4%bc%9a%ef%bc%8b%e6%9c%9b%e5%bf%b5%e4%bc%9a%ef%bc%89/
LOCATION:Karaoke Champさんオフィス
END:VEVENT
BEGIN:VEVENT
DTSTART;TZID=UTC:20241223T190000
DTEND;TZID=UTC:20241223T203000
DTSTAMP:20260424T133252
CREATED:20230206T151700Z
LAST-MODIFIED:20240619T000333Z
UID:567-1734980400-1734985800@seishinjukuny.org
SUMMARY:盛心塾NY 12月 自主勉強会/切磋琢磨会
DESCRIPTION:
URL:https://seishinjukuny.org/event/%e7%9b%9b%e5%bf%83%e5%a1%beny-12%e6%9c%88-%e8%87%aa%e4%b8%bb%e5%8b%89%e5%bc%b7%e4%bc%9a-%e5%88%87%e7%a3%8b%e7%90%a2%e7%a3%a8%e4%bc%9a/
LOCATION:ZOOMによるリモート勉強会
END:VEVENT
END:VCALENDAR