BEGIN:VCALENDAR
VERSION:2.0
PRODID:-//盛心塾ニューヨーク公式ウェブサイト - ECPv6.15.13.1//NONSGML v1.0//EN
CALSCALE:GREGORIAN
METHOD:PUBLISH
X-WR-CALNAME:盛心塾ニューヨーク公式ウェブサイト
X-ORIGINAL-URL:https://seishinjukuny.org
X-WR-CALDESC:Events for 盛心塾ニューヨーク公式ウェブサイト
REFRESH-INTERVAL;VALUE=DURATION:PT1H
X-Robots-Tag:noindex
X-PUBLISHED-TTL:PT1H
BEGIN:VTIMEZONE
TZID:UTC
BEGIN:STANDARD
TZOFFSETFROM:+0000
TZOFFSETTO:+0000
TZNAME:UTC
DTSTART:20240101T000000
END:STANDARD
END:VTIMEZONE
BEGIN:VTIMEZONE
TZID:America/New_York
BEGIN:DAYLIGHT
TZOFFSETFROM:-0500
TZOFFSETTO:-0400
TZNAME:EDT
DTSTART:20240310T070000
END:DAYLIGHT
BEGIN:STANDARD
TZOFFSETFROM:-0400
TZOFFSETTO:-0500
TZNAME:EST
DTSTART:20241103T060000
END:STANDARD
BEGIN:DAYLIGHT
TZOFFSETFROM:-0500
TZOFFSETTO:-0400
TZNAME:EDT
DTSTART:20250309T070000
END:DAYLIGHT
BEGIN:STANDARD
TZOFFSETFROM:-0400
TZOFFSETTO:-0500
TZNAME:EST
DTSTART:20251102T060000
END:STANDARD
BEGIN:DAYLIGHT
TZOFFSETFROM:-0500
TZOFFSETTO:-0400
TZNAME:EDT
DTSTART:20260308T070000
END:DAYLIGHT
BEGIN:STANDARD
TZOFFSETFROM:-0400
TZOFFSETTO:-0500
TZNAME:EST
DTSTART:20261101T060000
END:STANDARD
END:VTIMEZONE
BEGIN:VEVENT
DTSTART;TZID=UTC:20250212T080000
DTEND;TZID=UTC:20250212T170000
DTSTAMP:20260424T102353
CREATED:20250212T190107Z
LAST-MODIFIED:20250212T190107Z
UID:766-1739347200-1739379600@seishinjukuny.org
SUMMARY:盛心塾NY 9月　月例勉強会
DESCRIPTION:
URL:https://seishinjukuny.org/event/%e7%9b%9b%e5%bf%83%e5%a1%beny-9%e6%9c%88%e3%80%80%e6%9c%88%e4%be%8b%e5%8b%89%e5%bc%b7%e4%bc%9a/
END:VEVENT
BEGIN:VEVENT
DTSTART;TZID=America/New_York:20250214T070000
DTEND;TZID=America/New_York:20250214T083000
DTSTAMP:20260424T102353
CREATED:20250211T204548Z
LAST-MODIFIED:20250212T144427Z
UID:710-1739516400-1739521800@seishinjukuny.org
SUMMARY:盛心塾NY 2月　機関誌早朝輪読会
DESCRIPTION:
URL:https://seishinjukuny.org/event/%e7%9b%9b%e5%bf%83%e5%a1%beny-2%e6%9c%88%e3%80%80%e6%a9%9f%e9%96%a2%e8%aa%8c%e6%97%a9%e6%9c%9d%e8%bc%aa%e8%aa%ad%e4%bc%9a/
LOCATION:ZOOMによるリモート勉強会
CATEGORIES:イベント
END:VEVENT
BEGIN:VEVENT
DTSTART;TZID=America/New_York:20250218T070000
DTEND;TZID=America/New_York:20250218T080000
DTSTAMP:20260424T102353
CREATED:20250211T203949Z
LAST-MODIFIED:20250212T144500Z
UID:706-1739862000-1739865600@seishinjukuny.org
SUMMARY:盛心塾NY 2月 世話人会
DESCRIPTION:
URL:https://seishinjukuny.org/event/%e7%9b%9b%e5%bf%83%e5%a1%beny-2%e6%9c%88_%e6%a9%9f%e9%96%a2%e8%aa%8c%e6%97%a9%e6%9c%9d%e8%bc%aa%e8%aa%ad%e4%bc%9a/
LOCATION:ZOOMによるリモート勉強会
CATEGORIES:イベント
END:VEVENT
BEGIN:VEVENT
DTSTART;TZID=America/New_York:20250219T070000
DTEND;TZID=America/New_York:20250219T080000
DTSTAMP:20260424T102353
CREATED:20250211T203401Z
LAST-MODIFIED:20250212T144819Z
UID:618-1739948400-1739952000@seishinjukuny.org
SUMMARY:盛心塾NY 2月　英語塾
DESCRIPTION:
URL:https://seishinjukuny.org/event/%e7%9b%9b%e5%bf%83%e5%a1%beny-2%e6%9c%88%e3%80%80%e8%8b%b1%e8%aa%9e%e5%a1%be/
LOCATION:ZOOMによるリモート勉強会
CATEGORIES:イベント
END:VEVENT
BEGIN:VEVENT
DTSTART;TZID=America/New_York:20250220T070000
DTEND;TZID=America/New_York:20250220T093000
DTSTAMP:20260424T102353
CREATED:20250211T204339Z
LAST-MODIFIED:20250212T144906Z
UID:708-1740034800-1740043800@seishinjukuny.org
SUMMARY:盛心塾NY 2月　月例勉強会
DESCRIPTION:
URL:https://seishinjukuny.org/event/%e7%9b%9b%e5%bf%83%e5%a1%beny-2%e6%9c%88%e3%80%80%e6%9c%88%e4%be%8b%e5%8b%89%e5%bc%b7%e4%bc%9a/
LOCATION:ZOOMによるリモート勉強会
CATEGORIES:イベント
END:VEVENT
END:VCALENDAR