BEGIN:VCALENDAR
VERSION:2.0
PRODID:-//盛心塾ニューヨーク公式ウェブサイト - ECPv6.15.13.1//NONSGML v1.0//EN
CALSCALE:GREGORIAN
METHOD:PUBLISH
X-WR-CALNAME:盛心塾ニューヨーク公式ウェブサイト
X-ORIGINAL-URL:https://seishinjukuny.org
X-WR-CALDESC:Events for 盛心塾ニューヨーク公式ウェブサイト
REFRESH-INTERVAL;VALUE=DURATION:PT1H
X-Robots-Tag:noindex
X-PUBLISHED-TTL:PT1H
BEGIN:VTIMEZONE
TZID:America/New_York
BEGIN:DAYLIGHT
TZOFFSETFROM:-0500
TZOFFSETTO:-0400
TZNAME:EDT
DTSTART:20240310T070000
END:DAYLIGHT
BEGIN:STANDARD
TZOFFSETFROM:-0400
TZOFFSETTO:-0500
TZNAME:EST
DTSTART:20241103T060000
END:STANDARD
BEGIN:DAYLIGHT
TZOFFSETFROM:-0500
TZOFFSETTO:-0400
TZNAME:EDT
DTSTART:20250309T070000
END:DAYLIGHT
BEGIN:STANDARD
TZOFFSETFROM:-0400
TZOFFSETTO:-0500
TZNAME:EST
DTSTART:20251102T060000
END:STANDARD
BEGIN:DAYLIGHT
TZOFFSETFROM:-0500
TZOFFSETTO:-0400
TZNAME:EDT
DTSTART:20260308T070000
END:DAYLIGHT
BEGIN:STANDARD
TZOFFSETFROM:-0400
TZOFFSETTO:-0500
TZNAME:EST
DTSTART:20261101T060000
END:STANDARD
END:VTIMEZONE
BEGIN:VEVENT
DTSTART;TZID=America/New_York:20250314T080000
DTEND;TZID=America/New_York:20250314T083000
DTSTAMP:20260424T084803
CREATED:20250211T211609Z
LAST-MODIFIED:20250212T145003Z
UID:712-1741939200-1741941000@seishinjukuny.org
SUMMARY:盛心塾NY 3月　機関誌早朝輪読会
DESCRIPTION:
URL:https://seishinjukuny.org/event/%e7%9b%9b%e5%bf%83%e5%a1%beny-3%e6%9c%88%e3%80%80%e6%a9%9f%e9%96%a2%e8%aa%8c%e6%97%a9%e6%9c%9d%e8%bc%aa%e8%aa%ad%e4%bc%9a/
LOCATION:ZOOMによるリモート勉強会
END:VEVENT
BEGIN:VEVENT
DTSTART;TZID=America/New_York:20250318T070000
DTEND;TZID=America/New_York:20250318T080000
DTSTAMP:20260424T084803
CREATED:20250211T211713Z
LAST-MODIFIED:20250212T145042Z
UID:714-1742281200-1742284800@seishinjukuny.org
SUMMARY:盛心塾NY 3月　世話人会
DESCRIPTION:
URL:https://seishinjukuny.org/event/%e7%9b%9b%e5%bf%83%e5%a1%beny-3%e6%9c%88%e3%80%80%e4%b8%96%e8%a9%b1%e4%ba%ba%e4%bc%9a/
LOCATION:ZOOMによるリモート勉強会
END:VEVENT
BEGIN:VEVENT
DTSTART;TZID=America/New_York:20250319T070000
DTEND;TZID=America/New_York:20250319T080000
DTSTAMP:20260424T084803
CREATED:20250211T211801Z
LAST-MODIFIED:20250212T145222Z
UID:716-1742367600-1742371200@seishinjukuny.org
SUMMARY:盛心塾NY 3月　英語塾
DESCRIPTION:
URL:https://seishinjukuny.org/event/%e7%9b%9b%e5%bf%83%e5%a1%beny-3%e6%9c%88%e3%80%80%e8%8b%b1%e8%aa%9e%e5%a1%be-2/
LOCATION:ZOOMによるリモート勉強会
END:VEVENT
BEGIN:VEVENT
DTSTART;TZID=America/New_York:20250320T070000
DTEND;TZID=America/New_York:20250320T093000
DTSTAMP:20260424T084803
CREATED:20250211T211858Z
LAST-MODIFIED:20250212T145344Z
UID:718-1742454000-1742463000@seishinjukuny.org
SUMMARY:盛心塾NY 3月　月例勉強会
DESCRIPTION:
URL:https://seishinjukuny.org/event/%e7%9b%9b%e5%bf%83%e5%a1%beny-3%e6%9c%88%e3%80%80%e6%9c%88%e4%be%8b%e5%8b%89%e5%bc%b7%e4%bc%9a/
LOCATION:ZOOMによるリモート勉強会
END:VEVENT
END:VCALENDAR